BEGIN:VCALENDAR
VERSION:2.0
PRODID:-//Oliver Tourism - ECPv6.11.2.1//NONSGML v1.0//EN
CALSCALE:GREGORIAN
METHOD:PUBLISH
X-ORIGINAL-URL:https://visitoliver.com
X-WR-CALDESC:Events for Oliver Tourism
REFRESH-INTERVAL;VALUE=DURATION:PT1H
X-Robots-Tag:noindex
X-PUBLISHED-TTL:PT1H
BEGIN:VTIMEZONE
TZID:UTC
BEGIN:STANDARD
TZOFFSETFROM:+0000
TZOFFSETTO:+0000
TZNAME:UTC
DTSTART:20240101T000000
END:STANDARD
END:VTIMEZONE
BEGIN:VEVENT
DTSTART;TZID=UTC:20240120T083000
DTEND;TZID=UTC:20240120T160000
DTSTAMP:20260422T015644
CREATED:20240716T215926Z
LAST-MODIFIED:20240716T215926Z
UID:10000891-1705739400-1705766400@visitoliver.com
SUMMARY:Female Sugar and SpICE Jamboree (Oliver Arena)
DESCRIPTION:South Okanagan Minor Hockey Association (SOMHA) is hosting the U7/U9 Female Sugar and SpICE Jamboree in Oliver. Come on out and cheer on the Iron Maidens\, our game times are:\n8:35am-9:35am and 12:00pm-1:00pm. Skills Competition 1:15pm-2:15pm.\nThank you to Jodi Hoffman and those in SOMHA who helped put this together for the girls. If you have a daughter on the fence about joining hockey bring them out to come watch!
URL:https://visitoliver.com/event/female-sugar-and-spice-jamboree-oliver-arena/
ATTACH;FMTTYPE=image/jpeg:https://visitoliver.com/wp-content/uploads/2024/07/female-hockey-6zqxIF.tmp_.jpg
END:VEVENT
END:VCALENDAR