BEGIN:VCALENDAR
VERSION:2.0
PRODID:-//Oliver Tourism - ECPv6.11.2.1//NONSGML v1.0//EN
CALSCALE:GREGORIAN
METHOD:PUBLISH
X-WR-CALNAME:Oliver Tourism
X-ORIGINAL-URL:https://visitoliver.com
X-WR-CALDESC:Events for Oliver Tourism
REFRESH-INTERVAL;VALUE=DURATION:PT1H
X-Robots-Tag:noindex
X-PUBLISHED-TTL:PT1H
BEGIN:VTIMEZONE
TZID:UTC
BEGIN:STANDARD
TZOFFSETFROM:+0000
TZOFFSETTO:+0000
TZNAME:UTC
DTSTART:20240101T000000
END:STANDARD
END:VTIMEZONE
BEGIN:VEVENT
DTSTART;TZID=UTC:20240802T110000
DTEND;TZID=UTC:20240802T170000
DTSTAMP:20260422T005327
CREATED:20240716T220608Z
LAST-MODIFIED:20240716T220608Z
UID:10001146-1722596400-1722618000@visitoliver.com
SUMMARY:Food Truck Fridays (Nostalgia Wines)
DESCRIPTION:Nostalgia is pleased to welcome a variety of food truck partners for “Food Truck Fridays” during the 2024 summer season. Everyone has so much fun on Fridays that the winery added some other days\, too! They invite you to join for a glass\, bottle\, or flight of Nostalgia Wines in their scenic\, grassy picnic area while you munch and lunch on the mouthwatering offers from talented food truck partners.\nAUGUST 2024 – FOOD TRUCK SCHEDULE \n\nFriday\, August 2 – Pit Stop Smokery – The house ribs will fall apart to touch … so sticky … so worth it!\nFriday\, August 9 – TBD – Be sure to sign up for their newsletter and follow Nostalgia Wines on Facebook and Instagram to stay updated about our fun events.\nFriday\, August 16 – Law of Attraction – Skipping the meat? Try their Gochujang Tofu kebabs with peppers\, onions\, mushrooms\, citrus aioli\, greens and sesame!\nSunday\, August 18 – Krusty Joe’s Pizza – pizza with a view? Life is good.\nFriday\, August 23 & 30 – TBD – Be sure to sign up for their newsletter and follow Nostalgia Wines on Facebook and Instagram to stay updated about our fun events.
URL:https://visitoliver.com/event/food-truck-fridays-nostalgia-wines-4/
ATTACH;FMTTYPE=image/png:https://visitoliver.com/wp-content/uploads/2024/07/nostalgia-food-truck-fridays-2024-YnCflG.tmp_.png
END:VEVENT
END:VCALENDAR