BEGIN:VCALENDAR
VERSION:2.0
PRODID:-//Oliver Tourism - ECPv6.11.2.1//NONSGML v1.0//EN
CALSCALE:GREGORIAN
METHOD:PUBLISH
X-ORIGINAL-URL:https://visitoliver.com
X-WR-CALDESC:Events for Oliver Tourism
REFRESH-INTERVAL;VALUE=DURATION:PT1H
X-Robots-Tag:noindex
X-PUBLISHED-TTL:PT1H
BEGIN:VTIMEZONE
TZID:UTC
BEGIN:STANDARD
TZOFFSETFROM:+0000
TZOFFSETTO:+0000
TZNAME:UTC
DTSTART:20240101T000000
END:STANDARD
END:VTIMEZONE
BEGIN:VEVENT
DTSTART;TZID=UTC:20240614T150000
DTEND;TZID=UTC:20240614T170000
DTSTAMP:20260422T074021
CREATED:20240716T220656Z
LAST-MODIFIED:20240716T220656Z
UID:10001163-1718377200-1718384400@visitoliver.com
SUMMARY:Live Music in the Plaza with Kristi Neumann (District Wine Village)
DESCRIPTION:Born in Kalispell\, Montana\, and following in the footsteps of many transplanted Nashville songwriters\, Kristi  successfully carved out a place for herself in a town that doesn’t forgive mediocrity. And armed with a growing catalog of self-penned tunes\, her prowess as a writer\, performer\, and band leader has definitely turned heads. She has recently relocated to Oliver\, British Columbia where she continues to play music.\nKristi’s music is original and provocative. Her songs weave through themes that embrace both a wandering past and an optimistic hope for things to come. With perfect sensibility\, her introspective lyrics leave just enough room for well-crafted\, pop-friendly hooks.
URL:https://visitoliver.com/event/live-music-in-the-plaza-with-kristi-neumann-district-wine-village/
ATTACH;FMTTYPE=image/jpeg:https://visitoliver.com/wp-content/uploads/2024/07/DWV-kristi-neumann-e2YZ3G.tmp_.jpg
END:VEVENT
END:VCALENDAR