BEGIN:VCALENDAR
VERSION:2.0
PRODID:-//Oliver Tourism - ECPv6.11.2.1//NONSGML v1.0//EN
CALSCALE:GREGORIAN
METHOD:PUBLISH
X-WR-CALNAME:Oliver Tourism
X-ORIGINAL-URL:https://visitoliver.com
X-WR-CALDESC:Events for Oliver Tourism
REFRESH-INTERVAL;VALUE=DURATION:PT1H
X-Robots-Tag:noindex
X-PUBLISHED-TTL:PT1H
BEGIN:VTIMEZONE
TZID:UTC
BEGIN:STANDARD
TZOFFSETFROM:+0000
TZOFFSETTO:+0000
TZNAME:UTC
DTSTART:20240101T000000
END:STANDARD
END:VTIMEZONE
BEGIN:VEVENT
DTSTART;TZID=UTC:20240507T183000
DTEND;TZID=UTC:20240507T210000
DTSTAMP:20260424T075613
CREATED:20240716T220248Z
LAST-MODIFIED:20240716T220248Z
UID:10001019-1715106600-1715115600@visitoliver.com
SUMMARY:Longtable Dinner - Greek Feast (Miradoro Restaurant at Tinhorn Creek)
DESCRIPTION:Longtable Dinner – Greek Feast with Costa Gavris of Rigour & Whimsy Winery\nCosta will be working with Chef Jeff to create a menu showing the diversity of Greek cuisine\, along with wine pairings from Greece and BC.                                                                                                                                                    Multi-Course Menu by Chef Jeff Van Geest. 630pm start\, $100
URL:https://visitoliver.com/event/longtable-dinner-greek-feast-miradoro-restaurant-at-tinhorn-creek/
ATTACH;FMTTYPE=image/jpeg:https://visitoliver.com/wp-content/uploads/2024/07/miradoro-greek-PZHbVR.tmp_.jpg
END:VEVENT
END:VCALENDAR