BEGIN:VCALENDAR
VERSION:2.0
PRODID:-//Oliver Tourism - ECPv6.11.2.1//NONSGML v1.0//EN
CALSCALE:GREGORIAN
METHOD:PUBLISH
X-WR-CALNAME:Oliver Tourism
X-ORIGINAL-URL:https://visitoliver.com
X-WR-CALDESC:Events for Oliver Tourism
REFRESH-INTERVAL;VALUE=DURATION:PT1H
X-Robots-Tag:noindex
X-PUBLISHED-TTL:PT1H
BEGIN:VTIMEZONE
TZID:UTC
BEGIN:STANDARD
TZOFFSETFROM:+0000
TZOFFSETTO:+0000
TZNAME:UTC
DTSTART:20230101T000000
END:STANDARD
END:VTIMEZONE
BEGIN:VEVENT
DTSTART;TZID=UTC:20230722T170000
DTEND;TZID=UTC:20230722T213000
DTSTAMP:20260421T171508
CREATED:20240716T213927Z
LAST-MODIFIED:20240716T213927Z
UID:10000580-1690045200-1690061400@visitoliver.com
SUMMARY:Frälik in the Falls (Okanagan Falls Skaha Lake Winery Association)
DESCRIPTION:Get ready for a night of fun at Frälik in the Falls\, a fundraiser event in support of Penticton Excel: Centre for Exceptional Learning. Held at Centennial Park in Okanagan Falls\, this outdoor fundraising event will combine 90 minutes of wine tasting with the wineries of Okanagan Falls Skaha Lake Winery Association\, dinner prepared by BRODO\, live music with Uncorked\, a silent auction in support of Penticton Excel\, and dancing in the sweet summer sunshine.
URL:https://visitoliver.com/event/fralik-in-the-falls-okanagan-falls-skaha-lake-winery-association/
ATTACH;FMTTYPE=image/jpeg:https://visitoliver.com/wp-content/uploads/2024/07/fralik-in-the-falls-july-22-980-zH39ew.tmp_.jpg
END:VEVENT
END:VCALENDAR