BEGIN:VCALENDAR
VERSION:2.0
PRODID:-//Oliver Tourism - ECPv6.11.2.1//NONSGML v1.0//EN
CALSCALE:GREGORIAN
METHOD:PUBLISH
X-WR-CALNAME:Oliver Tourism
X-ORIGINAL-URL:https://visitoliver.com
X-WR-CALDESC:Events for Oliver Tourism
REFRESH-INTERVAL;VALUE=DURATION:PT1H
X-Robots-Tag:noindex
X-PUBLISHED-TTL:PT1H
BEGIN:VTIMEZONE
TZID:UTC
BEGIN:STANDARD
TZOFFSETFROM:+0000
TZOFFSETTO:+0000
TZNAME:UTC
DTSTART:20230101T000000
END:STANDARD
END:VTIMEZONE
BEGIN:VEVENT
DTSTART;TZID=UTC:20230131T193000
DTEND;TZID=UTC:20230131T213000
DTSTAMP:20260421T083637
CREATED:20240716T213429Z
LAST-MODIFIED:20240716T213429Z
UID:10000386-1675193400-1675200600@visitoliver.com
SUMMARY:January's A Drag! Show (Venables Theatre)
DESCRIPTION:Presented by Venables Theatre and the Oliver Community Arts Council\nFeaturing Queens and Kings from Kelowna’s Rebellious Unicorns\, this fabulous show will warm you up on a cold January day! The afternoon all-ages show will be an edited version of the full evening performance that you can bring your whole family to. It’s still a drag show\, but they’ve promised that they’ll try not to swear!
URL:https://visitoliver.com/event/januarys-a-drag-show-venables-theatre/
END:VEVENT
END:VCALENDAR