BEGIN:VCALENDAR
VERSION:2.0
PRODID:-//Oliver Tourism - ECPv6.11.2.1//NONSGML v1.0//EN
CALSCALE:GREGORIAN
METHOD:PUBLISH
X-WR-CALNAME:Oliver Tourism
X-ORIGINAL-URL:https://visitoliver.com
X-WR-CALDESC:Events for Oliver Tourism
REFRESH-INTERVAL;VALUE=DURATION:PT1H
X-Robots-Tag:noindex
X-PUBLISHED-TTL:PT1H
BEGIN:VTIMEZONE
TZID:UTC
BEGIN:STANDARD
TZOFFSETFROM:+0000
TZOFFSETTO:+0000
TZNAME:UTC
DTSTART:20260101T000000
END:STANDARD
END:VTIMEZONE
BEGIN:VEVENT
DTSTART;TZID=UTC:20260417T193000
DTEND;TZID=UTC:20260417T220000
DTSTAMP:20260424T080030
CREATED:20250402T225857Z
LAST-MODIFIED:20250516T174821Z
UID:10001611-1776454200-1776463200@visitoliver.com
SUMMARY:SOLIDARIDAD TANGO
DESCRIPTION:Solidaridad Tango\, North America’s trailblazing all-woman tango ensemble\, blends Golden Age tradition with bold new works by women composers from around the world. Fresh off a sold-out debut tour in Buenos Aires\, this dynamic group brings a passionate and progressive spirit to the global tango scene.
URL:https://visitoliver.com/event/solidaridad-tango/
LOCATION:Venables Theatre\, Oliver\, British Columbia\, V0H 1T0\, Canada
CATEGORIES:OTA Signature Stakeholder Event
ATTACH;FMTTYPE=image/png:https://visitoliver.com/wp-content/uploads/2025/05/SOLIDARIDAD-TANGO.png
ORGANIZER;CN="Venables Theatre":MAILTO:manager@venablestheatre.ca
END:VEVENT
END:VCALENDAR