BEGIN:VCALENDAR
VERSION:2.0
PRODID:-//Oliver Tourism - ECPv6.11.2.1//NONSGML v1.0//EN
CALSCALE:GREGORIAN
METHOD:PUBLISH
X-WR-CALNAME:Oliver Tourism
X-ORIGINAL-URL:https://visitoliver.com
X-WR-CALDESC:Events for Oliver Tourism
REFRESH-INTERVAL;VALUE=DURATION:PT1H
X-Robots-Tag:noindex
X-PUBLISHED-TTL:PT1H
BEGIN:VTIMEZONE
TZID:UTC
BEGIN:STANDARD
TZOFFSETFROM:+0000
TZOFFSETTO:+0000
TZNAME:UTC
DTSTART:20260101T000000
END:STANDARD
END:VTIMEZONE
BEGIN:VEVENT
DTSTART;TZID=UTC:20260320T193000
DTEND;TZID=UTC:20260320T220000
DTSTAMP:20260424T075914
CREATED:20250402T225349Z
LAST-MODIFIED:20250516T175059Z
UID:10001610-1774035000-1774044000@visitoliver.com
SUMMARY:Pocket Symphonies
DESCRIPTION:Experience Beethoven’s iconic 5th Symphony like never before in a vibrant ‘pocket’ arrangement for piano four hands\, violin\, and cello\, performed by a powerhouse quartet of acclaimed musicians. Featuring works by Mendelssohn and Brahms alongside this fresh take on a classical cornerstone\, the evening promises an intimate yet powerful celebration of chamber music.
URL:https://visitoliver.com/event/pocket-symphonies/
LOCATION:Venables Theatre\, Oliver\, British Columbia\, V0H 1T0\, Canada
CATEGORIES:OTA Signature Stakeholder Event
ATTACH;FMTTYPE=image/png:https://visitoliver.com/wp-content/uploads/2025/05/Pocket-Symphonies.png
ORGANIZER;CN="Venables Theatre":MAILTO:manager@venablestheatre.ca
END:VEVENT
BEGIN:VEVENT
DTSTART;TZID=UTC:20260325T193000
DTEND;TZID=UTC:20260325T210000
DTSTAMP:20260424T075914
CREATED:20251204T214708Z
LAST-MODIFIED:20260218T181011Z
UID:10003487-1774467000-1774472400@visitoliver.com
SUMMARY:Relive the Music 50s 60s & 70s
DESCRIPTION:Back by popular demand – Relive the Music 50s & 60s SHOW is back after 158 standing ovations in a row across Canada with a new twist.  We are keeping the biggest hits from the 50s & 60s\, plus adding 70s Disco Mania with new costumes and great entertainment like usual.  Medleys from the Disco area: to name a few – The Village People\, Earth Wind & Fire\, Bee Gees\, Abba\, Gloria Gaynor\, Chic\, Tramps\, KC & the Sunshine Band\, Sister Sledge and more 70s surprises coming. World champion\, as seen twice on Oprah and the Ellen Show\, Luisa Marshall will be performing all her magic alongside the other talented singers and the great band.   Don’t miss this show.   A one-of-a-kind show that takes the audience through Music History\, Trivia & Memories of the 50’s & 60’s\, & 70s. You will likely learn many things you never knew about these artists. You will see an energetic live band\, amazing front singers\, and dancers transforming and reliving three decades of music\, costumes\, trends\, and dance\, with video imagery in the background.
URL:https://visitoliver.com/event/relive-the-music-50s-60s-70s/2026-03-25/
LOCATION:Venables Theatre\, Oliver\, British Columbia\, V0H 1T0\, Canada
CATEGORIES:OTA Signature Stakeholder Event
ATTACH;FMTTYPE=image/jpeg:https://visitoliver.com/wp-content/uploads/2025/12/Relive-the-Music-.jpeg
ORGANIZER;CN="Venables Theatre":MAILTO:manager@venablestheatre.ca
END:VEVENT
BEGIN:VEVENT
DTSTART;TZID=UTC:20260326T193000
DTEND;TZID=UTC:20260326T210000
DTSTAMP:20260424T075914
CREATED:20251204T214708Z
LAST-MODIFIED:20260218T181011Z
UID:10004167-1774553400-1774558800@visitoliver.com
SUMMARY:Relive the Music 50s 60s & 70s
DESCRIPTION:Back by popular demand – Relive the Music 50s & 60s SHOW is back after 158 standing ovations in a row across Canada with a new twist.  We are keeping the biggest hits from the 50s & 60s\, plus adding 70s Disco Mania with new costumes and great entertainment like usual.  Medleys from the Disco area: to name a few – The Village People\, Earth Wind & Fire\, Bee Gees\, Abba\, Gloria Gaynor\, Chic\, Tramps\, KC & the Sunshine Band\, Sister Sledge and more 70s surprises coming. World champion\, as seen twice on Oprah and the Ellen Show\, Luisa Marshall will be performing all her magic alongside the other talented singers and the great band.   Don’t miss this show.   A one-of-a-kind show that takes the audience through Music History\, Trivia & Memories of the 50’s & 60’s\, & 70s. You will likely learn many things you never knew about these artists. You will see an energetic live band\, amazing front singers\, and dancers transforming and reliving three decades of music\, costumes\, trends\, and dance\, with video imagery in the background.
URL:https://visitoliver.com/event/relive-the-music-50s-60s-70s/2026-03-26/
LOCATION:Venables Theatre\, Oliver\, British Columbia\, V0H 1T0\, Canada
CATEGORIES:OTA Signature Stakeholder Event
ATTACH;FMTTYPE=image/jpeg:https://visitoliver.com/wp-content/uploads/2025/12/Relive-the-Music-.jpeg
ORGANIZER;CN="Venables Theatre":MAILTO:manager@venablestheatre.ca
END:VEVENT
BEGIN:VEVENT
DTSTART;TZID=UTC:20260327T193000
DTEND;TZID=UTC:20260327T210000
DTSTAMP:20260424T075914
CREATED:20251204T215251Z
LAST-MODIFIED:20260130T202958Z
UID:10003488-1774639800-1774645200@visitoliver.com
SUMMARY:Let's Go Surfin'! The Remarkable Beach Boys Tribute
DESCRIPTION:Hailed as the best Beach Boys tribute on the planet\, BACKBEAT’s Let’s Go Surfin’! show has dazzled audiences everywhere with its mind-blowing harmonies and top tier musicianship.  Hit after hit—you don’t just hear this incredible music.  You FEEL it.  A wave of nostalgia will crash over you\, and sweep you away to a time of sun\, sand\, and surf in the most Fun Fun Fun evening you can imagine! \n\nThe stage explodes with sound\, lighting\, video and musical energy — a dazzling ocean of lit-up surfboards\, glowing and pulsing in rhythm with the music\, framing the band in a kaleidoscope of light and imagery.  Each song builds the wave higher — a breathtaking journey through one of the most iconic soundtracks in pop music history! \n\nWhether you grew up on the music of the Beach Boys\, or just discovered it\, this show will lift you up\, spin you around\, and send you home humming with happiness.  BACKBEAT’s Let’s Go Surfin’! is more than a tribute — it’s a love letter to the sound that defined a generation and still inspires millions.  Grab your shades\, your smile\, and your sense of adventure — because when BACKBEAT hits the stage\, the surf’s up\, the lights and video are dazzling\, and every night feels like summer in California.​
URL:https://visitoliver.com/event/lets-go-surfin-the-remarkable-beach-boys-tribute/
LOCATION:Venables Theatre\, Oliver\, British Columbia\, V0H 1T0\, Canada
CATEGORIES:OTA Signature Stakeholder Event
ATTACH;FMTTYPE=image/jpeg:https://visitoliver.com/wp-content/uploads/2025/12/surfin-compressed_orig.jpg
ORGANIZER;CN="Venables Theatre":MAILTO:manager@venablestheatre.ca
END:VEVENT
END:VCALENDAR