BEGIN:VCALENDAR
VERSION:2.0
PRODID:-//Oliver Tourism - ECPv6.11.2.1//NONSGML v1.0//EN
CALSCALE:GREGORIAN
METHOD:PUBLISH
X-ORIGINAL-URL:https://visitoliver.com
X-WR-CALDESC:Events for Oliver Tourism
REFRESH-INTERVAL;VALUE=DURATION:PT1H
X-Robots-Tag:noindex
X-PUBLISHED-TTL:PT1H
BEGIN:VTIMEZONE
TZID:UTC
BEGIN:STANDARD
TZOFFSETFROM:+0000
TZOFFSETTO:+0000
TZNAME:UTC
DTSTART:20260101T000000
END:STANDARD
END:VTIMEZONE
BEGIN:VEVENT
DTSTART;TZID=UTC:20260125T193000
DTEND;TZID=UTC:20260125T220000
DTSTAMP:20260424T111226
CREATED:20250402T224843Z
LAST-MODIFIED:20250605T174716Z
UID:10001609-1769369400-1769378400@visitoliver.com
SUMMARY:International Guitar Night
DESCRIPTION:International Guitar Night (IGN) brings together a fresh lineup of four exceptional acoustic guitarists from around the world for an evening of unforgettable musicianship\, creativity\, and collaboration. Each year\, IGN founder Brian Gore curates a new cast of guitar luminaries who exchange musical ideas and dazzle audiences with solos\, duets\, and full quartet performances that showcase the power\, precision\, and diversity of the acoustic guitar. \n\nThe 2025 tour features an exciting cast of performers: \n\nItamar ErezA masterful composer and world music innovator\, Itamar Erez blends Middle Eastern melodies\, flamenco passion\, and jazz improvisation into an expressive and deeply emotional sound. A 2014 Landau Prize and ACUM Award winner\, Erez has performed globally—from Carnegie Hall to the Sydney Opera House—and continues to push creative boundaries with his latest album Migrant Voices. \n\n\n\n\n\n\n\n\n\n\n\nJocelyn Gould2021 JUNO Award winner and Benedetto-endorsed artist\, Jocelyn Gould is celebrated as one of the next great voices in jazz guitar. Her virtuosic playing\, rich tone\, and compelling compositions have earned international acclaim. With her infectious energy and undeniable talent\, Gould creates a joyful connection with audiences everywhere. \n\n\n\n\n\n\n\n\n\n\n\nJamie DupuisKnown for his viral harp guitar arrangement of Comfortably Numb\, Jamie Dupuis is a fingerstyle phenom whose genre-crossing artistry spans rock\, classical\, and cinematic soundscapes. A past winner of the Canadian Guitar Festival\, his dynamic performances and original compositions captivate fans around the globe.​ \n\n\n\n\n\n\n\nCaroline PlantéA trailblazer in contemporary flamenco\, Montreal’s Caroline Planté brings elegance\, fire\, and originality to the stage. Drawing on her deep roots in traditional flamenco and her global influences\, Planté has toured internationally\, composed groundbreaking works\, and collaborated with artists from Spain to Senegal. Her music tells rich\, personal stories through six strings. \n\n\n\n\n\n\n\n\n\nPart of the South Okanagan Concert Series \n\n\n	Cheng² Duo – Thursday October 23 @ 7:30\n	International Guitar Night – Sunday January 25 @ 7:30\n	Pocket Symphonies – Friday March 20 @ 7:30\n	Solidaridad Tango – Fri April 17 @ 7:30​\n\n​ \n\nTickets:4 Events: $27 each2-3 Events: $29.50 eachSingle Event: $32Students: $5
URL:https://visitoliver.com/event/international-guitar-night/
LOCATION:Venables Theatre\, Oliver\, British Columbia\, V0H 1T0\, Canada
CATEGORIES:OTA Signature Stakeholder Event
ATTACH;FMTTYPE=image/jpeg:https://visitoliver.com/wp-content/uploads/2025/04/ign-web-button-1_orig.jpg
ORGANIZER;CN="Venables Theatre":MAILTO:manager@venablestheatre.ca
END:VEVENT
END:VCALENDAR