BEGIN:VCALENDAR
VERSION:2.0
PRODID:-//Oliver Tourism - ECPv6.11.2.1//NONSGML v1.0//EN
CALSCALE:GREGORIAN
METHOD:PUBLISH
X-WR-CALNAME:Oliver Tourism
X-ORIGINAL-URL:https://visitoliver.com
X-WR-CALDESC:Events for Oliver Tourism
REFRESH-INTERVAL;VALUE=DURATION:PT1H
X-Robots-Tag:noindex
X-PUBLISHED-TTL:PT1H
BEGIN:VTIMEZONE
TZID:UTC
BEGIN:STANDARD
TZOFFSETFROM:+0000
TZOFFSETTO:+0000
TZNAME:UTC
DTSTART:20240101T000000
END:STANDARD
END:VTIMEZONE
BEGIN:VEVENT
DTSTART;TZID=UTC:20240621T150000
DTEND;TZID=UTC:20240621T170000
DTSTAMP:20260421T115336
CREATED:20240716T220659Z
LAST-MODIFIED:20240716T220659Z
UID:10001166-1718982000-1718989200@visitoliver.com
SUMMARY:Live Music in the Plaza with Ari Neufeld (District Wine Village)
DESCRIPTION:Complimentary Live Music in the Plaza every Friday\, Saturday & Sunday from 3:00 pm – 5:00 pm.\nAri Neufeld is a creative. If it can be made with the human body\, he’s probably figuring out how to make it. Music. Art. Rhythm. Melody. Rhyme. Visual innovation and diversity. Neufeld plays regularly with Canada’s fiddler phenom Jennie Bice\, and bides most of his year traveling and being creative. He has played over 300 weddings and over 650 shows in Vancouver BC alone!
URL:https://visitoliver.com/event/live-music-in-the-plaza-with-ari-neufeld-district-wine-village/
ATTACH;FMTTYPE=image/jpeg:https://visitoliver.com/wp-content/uploads/2024/07/ari-neufeld-990-x-480-yXf0aC.tmp_.jpg
END:VEVENT
END:VCALENDAR