BEGIN:VCALENDAR
VERSION:2.0
PRODID:-//Oliver Tourism - ECPv6.11.2.1//NONSGML v1.0//EN
CALSCALE:GREGORIAN
METHOD:PUBLISH
X-WR-CALNAME:Oliver Tourism
X-ORIGINAL-URL:https://visitoliver.com
X-WR-CALDESC:Events for Oliver Tourism
REFRESH-INTERVAL;VALUE=DURATION:PT1H
X-Robots-Tag:noindex
X-PUBLISHED-TTL:PT1H
BEGIN:VTIMEZONE
TZID:UTC
BEGIN:STANDARD
TZOFFSETFROM:+0000
TZOFFSETTO:+0000
TZNAME:UTC
DTSTART:20230101T000000
END:STANDARD
END:VTIMEZONE
BEGIN:VEVENT
DTSTART;TZID=UTC:20230623T170000
DTEND;TZID=UTC:20230623T210000
DTSTAMP:20260421T134425
CREATED:20240716T213827Z
LAST-MODIFIED:20240716T213827Z
UID:10000535-1687539600-1687554000@visitoliver.com
SUMMARY:Friday Pajama Party Roller Rink (Oliver Parks and Recreation)
DESCRIPTION:Penticton Roller Skate is excited to be back in Oliver and share with you their next Night at the Roller Rink!The evening will be PJ themed\, and they encourage you to come in your comfiest Pajamas!\nThey will be offering 3 skating blocks:\nIntro Skate Lesson: 4:30pm – 5:00pm\nRegistration is required. Please contact Katie@oliverrecreation.ca to register.\nAll Ages: 5:00pm to 7:00pm\nSkaters 13 and younger require helmets. We recommend skaters supply their own helmets.\nAdult: 7pm – 9pm\nAdmission: $10.00 each\nFinancial Assistance available for those that face barriers in accessing events.\nSkate Rentals: $5.00 per pair.\nOver 200 pairs of quad roller skates\, and a dozen roller blades in limited sizes. Protective gear included with rental by request. Roller Skate\, or Blades Welcome.\nNo bikes\, scooters\, or skateboards.\nAdmission and skates are first come\, first serve.
URL:https://visitoliver.com/event/friday-pajama-party-roller-rink-oliver-parks-and-recreation/
ATTACH;FMTTYPE=image/jpeg:https://visitoliver.com/wp-content/uploads/2024/07/parks-pj-party-980-zSn0NC.tmp_.jpg
END:VEVENT
END:VCALENDAR