BEGIN:VCALENDAR
VERSION:2.0
PRODID:-//Oliver Tourism - ECPv6.11.2.1//NONSGML v1.0//EN
CALSCALE:GREGORIAN
METHOD:PUBLISH
X-ORIGINAL-URL:https://visitoliver.com
X-WR-CALDESC:Events for Oliver Tourism
REFRESH-INTERVAL;VALUE=DURATION:PT1H
X-Robots-Tag:noindex
X-PUBLISHED-TTL:PT1H
BEGIN:VTIMEZONE
TZID:UTC
BEGIN:STANDARD
TZOFFSETFROM:+0000
TZOFFSETTO:+0000
TZNAME:UTC
DTSTART:20240101T000000
END:STANDARD
END:VTIMEZONE
BEGIN:VEVENT
DTSTART;TZID=UTC:20240511T100000
DTEND;TZID=UTC:20240511T203000
DTSTAMP:20260422T080720
CREATED:20240716T220443Z
LAST-MODIFIED:20240716T220443Z
UID:10001092-1715421600-1715459400@visitoliver.com
SUMMARY:Celebrate Mom’s Weekend (Burrowing Owl Estate Winery)
DESCRIPTION:Celebrate Mom’s Weekend at Burrowing Owl Estate Winery! Book a tasting and tour of the winery\, followed by lunch or dinner at our Sonora Room Restaurant. On Sunday the culinary team is featuring a beautiful brunch menu!\n\n\nOn Saturday May 11th we have a special guest visit in the wine shop from Pluto our favourite Burrowing owl and Lauren from the Burrowing Owl Conservation Society of BC.\n\n\nReservations are available for custom tours\, tastings in the wine shop and for the restaurant on the website.
URL:https://visitoliver.com/event/celebrate-moms-weekend-burrowing-owl-estate-winery/
ATTACH;FMTTYPE=image/jpeg:https://visitoliver.com/wp-content/uploads/2024/07/burrowing-owl-pluto-lFMHwn.tmp_.jpg
END:VEVENT
END:VCALENDAR