BEGIN:VCALENDAR
VERSION:2.0
PRODID:-//Oliver Tourism - ECPv6.11.2.1//NONSGML v1.0//EN
CALSCALE:GREGORIAN
METHOD:PUBLISH
X-WR-CALNAME:Oliver Tourism
X-ORIGINAL-URL:https://visitoliver.com
X-WR-CALDESC:Events for Oliver Tourism
REFRESH-INTERVAL;VALUE=DURATION:PT1H
X-Robots-Tag:noindex
X-PUBLISHED-TTL:PT1H
BEGIN:VTIMEZONE
TZID:UTC
BEGIN:STANDARD
TZOFFSETFROM:+0000
TZOFFSETTO:+0000
TZNAME:UTC
DTSTART:20240101T000000
END:STANDARD
END:VTIMEZONE
BEGIN:VEVENT
DTSTART;TZID=UTC:20240614T180000
DTEND;TZID=UTC:20240614T210000
DTSTAMP:20260424T092323
CREATED:20240716T220419Z
LAST-MODIFIED:20240716T220419Z
UID:10001075-1718388000-1718398800@visitoliver.com
SUMMARY:Nota Bene Long Table Dinner Series (Black Hills Estate Winery)
DESCRIPTION:Join Black Hills for an unforgettable evening celebrating the release of the latest vintage of Black Hills Estate Winery’s Nota Bene. Hosted on June 14th and 15th\, these exclusive long table Winemaker’s Dinners promise to be a special gathering filled with fine wine and delightful company.\nYou will be welcomed with a Sparkling Brut reception upon arrival\, followed by a fantastic four-course menu. Be among the first to savour the new release from 2022 vintage\, of our flagship Nota Bene wine while mingling with esteemed winemaker Ross Wise MW who will share insights and stories behind its creation. Plus\, you will have the exclusive opportunity to enjoy a selection of specialty wines from their library. \nLimited spots guarantee an intimate affair\, with shuttle service to and from Osoyoos provided for your convenience. \nTicket price includes gratuities and shuttle service. Wine Club members enjoy an exclusive 15% discount on tickets.
URL:https://visitoliver.com/event/nota-bene-long-table-dinner-series-black-hills-estate-winery/
ATTACH;FMTTYPE=image/jpeg:https://visitoliver.com/wp-content/uploads/2024/07/black-hills-exterior-V4DxXP.tmp_.jpg
END:VEVENT
END:VCALENDAR