BEGIN:VCALENDAR
VERSION:2.0
PRODID:-//Oliver Tourism - ECPv6.11.2.1//NONSGML v1.0//EN
CALSCALE:GREGORIAN
METHOD:PUBLISH
X-ORIGINAL-URL:https://visitoliver.com
X-WR-CALDESC:Events for Oliver Tourism
REFRESH-INTERVAL;VALUE=DURATION:PT1H
X-Robots-Tag:noindex
X-PUBLISHED-TTL:PT1H
BEGIN:VTIMEZONE
TZID:UTC
BEGIN:STANDARD
TZOFFSETFROM:+0000
TZOFFSETTO:+0000
TZNAME:UTC
DTSTART:20240101T000000
END:STANDARD
END:VTIMEZONE
BEGIN:VEVENT
DTSTART;TZID=UTC:20240517T170000
DTEND;TZID=UTC:20240517T220000
DTSTAMP:20260422T013858
CREATED:20240716T220414Z
LAST-MODIFIED:20240716T220414Z
UID:10001071-1715965200-1715983200@visitoliver.com
SUMMARY:Spring Fling Dinner and Dance (Oliver Legion)
DESCRIPTION:Come out to enjoy barbequed hamburgers\, hotdogs\, and coleslaw. Dance to the live music of Marcel.\nDinner and Dance  $25. Doors open at 5:00pm. Dinner at 6:00pm. \nEveryone is welcome. Tickets available at the canteen. \n 
URL:https://visitoliver.com/event/spring-fling-dinner-and-dance-oliver-legion/
ATTACH;FMTTYPE=image/jpeg:https://visitoliver.com/wp-content/uploads/2024/07/spring-fling-8YK0l7.tmp_.jpg
END:VEVENT
END:VCALENDAR