BEGIN:VCALENDAR
VERSION:2.0
PRODID:-//Oliver Tourism - ECPv6.11.2.1//NONSGML v1.0//EN
CALSCALE:GREGORIAN
METHOD:PUBLISH
X-ORIGINAL-URL:https://visitoliver.com
X-WR-CALDESC:Events for Oliver Tourism
REFRESH-INTERVAL;VALUE=DURATION:PT1H
X-Robots-Tag:noindex
X-PUBLISHED-TTL:PT1H
BEGIN:VTIMEZONE
TZID:UTC
BEGIN:STANDARD
TZOFFSETFROM:+0000
TZOFFSETTO:+0000
TZNAME:UTC
DTSTART:20260101T000000
END:STANDARD
END:VTIMEZONE
BEGIN:VEVENT
DTSTART;TZID=UTC:20260724T170000
DTEND;TZID=UTC:20260724T200000
DTSTAMP:20260424T072402
CREATED:20260130T224807Z
LAST-MODIFIED:20260130T224809Z
UID:10004094-1784912400-1784923200@visitoliver.com
SUMMARY:Bandidos at Nostalgia Winery
DESCRIPTION:Bandidos are Back to Rock the Black Sage Bench! \n\nGet ready for another electrifying evening of classic rock at Nostalgia Wines\, as fan-favourite Bandidos Rock Band returns for their third consecutive year on Friday\, July 24\, 2026\, from 5pm-8pm! \n\nAfter two unforgettable summers rocking the Black Sage Bench\, Bandidos are back by popular demand. Born out of a deep passion for music and art\, this powerhouse band brings the soul of classic rock to life with infectious energy and undeniable talent. From Mexico to the Okanagan\, they’ve captured hearts everywhere they play and Oliver has become one of their favourite stages. \n\nImmerse yourself in the enchanting atmosphere of Nostalgia Wines\, where lush valley views meet soul-stirring sounds of timeless rock hits. Sip on award-winning wines\, ice-cold beer\, refreshing margaritas\, or frozen wine slushies as you groove to the iconic tunes that have stood the test of time. Non-alcoholic options also available. Feel free to bring your lawn chairs and blankets to settle in for the evening (oh and your dancing shoes)! \n\nFood truck details coming soon—because great music deserves great food! \n\nDon’t miss your chance to experience the magic of Bandidos live in concert for the third summer in a row! Gather your friends and family for an unforgettable evening filled with music\, laughter\, and memories that will last a lifetime.
URL:https://visitoliver.com/event/bandidos-at-nostalgia-winery/
LOCATION:Nostalgia Wines\, 4900 Black Sage Road British Columbia Oliver V0H 1T1 Canada\, Oliver\, British Columbia\, V0H 1T1\, Canada
ATTACH;FMTTYPE=image/webp:https://visitoliver.com/wp-content/uploads/2026/01/bandidos-concert-tickets-friday-july-24-2026.webp
ORGANIZER;CN="Nostalgia Wines":MAILTO:info@nostalgiawines.ca
END:VEVENT
END:VCALENDAR