BEGIN:VCALENDAR
VERSION:2.0
PRODID:-//Oliver Tourism - ECPv6.11.2.1//NONSGML v1.0//EN
CALSCALE:GREGORIAN
METHOD:PUBLISH
X-ORIGINAL-URL:https://visitoliver.com
X-WR-CALDESC:Events for Oliver Tourism
REFRESH-INTERVAL;VALUE=DURATION:PT1H
X-Robots-Tag:noindex
X-PUBLISHED-TTL:PT1H
BEGIN:VTIMEZONE
TZID:UTC
BEGIN:STANDARD
TZOFFSETFROM:+0000
TZOFFSETTO:+0000
TZNAME:UTC
DTSTART:20260101T000000
END:STANDARD
END:VTIMEZONE
BEGIN:VEVENT
DTSTART;TZID=UTC:20260613T080000
DTEND;TZID=UTC:20260613T170000
DTSTAMP:20260421T133038
CREATED:20260419T210743Z
LAST-MODIFIED:20260419T210745Z
UID:10004784-1781337600-1781370000@visitoliver.com
SUMMARY:Sunshine Slam
DESCRIPTION:Registration opens tomorrow morning at 8:00 am for The Sunshine Slam 2026 in Oliver\, B.C\, June 13-14! \n\nWe’re excited to travel to the South Okanagan and launch this inaugural outdoor tournament as part of the Sunshine Festival\, happening June 12–21. \n\n📅 June 13–14\, 2026🕗 Registration opens April 18 at 8:00 AM📍 Oliver & District Recreation Outdoor Courts \n\nRoad trip\, anyone? Set your alarms and get ready to lock in your spot!
URL:https://visitoliver.com/event/sunshine-slam/2026-06-13/
LOCATION:Oliver Community Park\, 6359 Park Drive British Columbia Oliver V0H 1T0 Canada\, Oliver\, British Columbia\, V0H 1T0\, Canada
ATTACH;FMTTYPE=image/jpeg:https://visitoliver.com/wp-content/uploads/2026/04/Screenshot-2026-04-19-140102.jpg
ORGANIZER;CN="Oliver Parks &amp%3B Recreation":MAILTO:recreation@oliver.ca
END:VEVENT
BEGIN:VEVENT
DTSTART;TZID=UTC:20260614T080000
DTEND;TZID=UTC:20260614T170000
DTSTAMP:20260421T133038
CREATED:20260419T210743Z
LAST-MODIFIED:20260419T210745Z
UID:10004785-1781424000-1781456400@visitoliver.com
SUMMARY:Sunshine Slam
DESCRIPTION:Registration opens tomorrow morning at 8:00 am for The Sunshine Slam 2026 in Oliver\, B.C\, June 13-14! \n\nWe’re excited to travel to the South Okanagan and launch this inaugural outdoor tournament as part of the Sunshine Festival\, happening June 12–21. \n\n📅 June 13–14\, 2026🕗 Registration opens April 18 at 8:00 AM📍 Oliver & District Recreation Outdoor Courts \n\nRoad trip\, anyone? Set your alarms and get ready to lock in your spot!
URL:https://visitoliver.com/event/sunshine-slam/2026-06-14/
LOCATION:Oliver Community Park\, 6359 Park Drive British Columbia Oliver V0H 1T0 Canada\, Oliver\, British Columbia\, V0H 1T0\, Canada
ATTACH;FMTTYPE=image/jpeg:https://visitoliver.com/wp-content/uploads/2026/04/Screenshot-2026-04-19-140102.jpg
ORGANIZER;CN="Oliver Parks &amp%3B Recreation":MAILTO:recreation@oliver.ca
END:VEVENT
END:VCALENDAR