BEGIN:VCALENDAR
VERSION:2.0
PRODID:-//Oliver Tourism - ECPv6.11.2.1//NONSGML v1.0//EN
CALSCALE:GREGORIAN
METHOD:PUBLISH
X-WR-CALNAME:Oliver Tourism
X-ORIGINAL-URL:https://visitoliver.com
X-WR-CALDESC:Events for Oliver Tourism
REFRESH-INTERVAL;VALUE=DURATION:PT1H
X-Robots-Tag:noindex
X-PUBLISHED-TTL:PT1H
BEGIN:VTIMEZONE
TZID:UTC
BEGIN:STANDARD
TZOFFSETFROM:+0000
TZOFFSETTO:+0000
TZNAME:UTC
DTSTART:20260101T000000
END:STANDARD
END:VTIMEZONE
BEGIN:VEVENT
DTSTART;TZID=UTC:20260428T151500
DTEND;TZID=UTC:20260428T171500
DTSTAMP:20260421T114328
CREATED:20260418T172314Z
LAST-MODIFIED:20260418T191554Z
UID:10004765-1777389300-1777396500@visitoliver.com
SUMMARY:Girls Adventure Outdoor Leadership
DESCRIPTION:Girls outdoor adventure leadership (ages 13-15) is scheduled to start on Tuesday April 28th! Register ASAP to avoid program cancellation. \n\nThis group will canoe\, hike\, slackline\, disc golf and build confidence getting active in the outdoors. \n\nRegistration: https://app.amilia.com/…/townofol…/api/Program/Detail…
URL:https://visitoliver.com/event/girls-adventure-outdoor-leadership/2026-04-28/
LOCATION:Oliver Community Park\, 6359 Park Drive British Columbia Oliver V0H 1T0 Canada\, Oliver\, British Columbia\, V0H 1T0\, Canada
ATTACH;FMTTYPE=image/jpeg:https://visitoliver.com/wp-content/uploads/2026/04/672682283_1544561384345364_4517655411995682823_n.jpg
ORGANIZER;CN="Oliver Parks &amp%3B Recreation":MAILTO:recreation@oliver.ca
END:VEVENT
BEGIN:VEVENT
DTSTART;TZID=UTC:20260505T151500
DTEND;TZID=UTC:20260505T171500
DTSTAMP:20260421T114328
CREATED:20260418T172314Z
LAST-MODIFIED:20260418T191554Z
UID:10004766-1777994100-1778001300@visitoliver.com
SUMMARY:Girls Adventure Outdoor Leadership
DESCRIPTION:Girls outdoor adventure leadership (ages 13-15) is scheduled to start on Tuesday April 28th! Register ASAP to avoid program cancellation. \n\nThis group will canoe\, hike\, slackline\, disc golf and build confidence getting active in the outdoors. \n\nRegistration: https://app.amilia.com/…/townofol…/api/Program/Detail…
URL:https://visitoliver.com/event/girls-adventure-outdoor-leadership/2026-05-05/
LOCATION:Oliver Community Park\, 6359 Park Drive British Columbia Oliver V0H 1T0 Canada\, Oliver\, British Columbia\, V0H 1T0\, Canada
ATTACH;FMTTYPE=image/jpeg:https://visitoliver.com/wp-content/uploads/2026/04/672682283_1544561384345364_4517655411995682823_n.jpg
ORGANIZER;CN="Oliver Parks &amp%3B Recreation":MAILTO:recreation@oliver.ca
END:VEVENT
BEGIN:VEVENT
DTSTART;TZID=UTC:20260512T151500
DTEND;TZID=UTC:20260512T171500
DTSTAMP:20260421T114328
CREATED:20260418T172314Z
LAST-MODIFIED:20260418T191554Z
UID:10004767-1778598900-1778606100@visitoliver.com
SUMMARY:Girls Adventure Outdoor Leadership
DESCRIPTION:Girls outdoor adventure leadership (ages 13-15) is scheduled to start on Tuesday April 28th! Register ASAP to avoid program cancellation. \n\nThis group will canoe\, hike\, slackline\, disc golf and build confidence getting active in the outdoors. \n\nRegistration: https://app.amilia.com/…/townofol…/api/Program/Detail…
URL:https://visitoliver.com/event/girls-adventure-outdoor-leadership/2026-05-12/
LOCATION:Oliver Community Park\, 6359 Park Drive British Columbia Oliver V0H 1T0 Canada\, Oliver\, British Columbia\, V0H 1T0\, Canada
ATTACH;FMTTYPE=image/jpeg:https://visitoliver.com/wp-content/uploads/2026/04/672682283_1544561384345364_4517655411995682823_n.jpg
ORGANIZER;CN="Oliver Parks &amp%3B Recreation":MAILTO:recreation@oliver.ca
END:VEVENT
BEGIN:VEVENT
DTSTART;TZID=UTC:20260519T151500
DTEND;TZID=UTC:20260519T171500
DTSTAMP:20260421T114328
CREATED:20260418T172314Z
LAST-MODIFIED:20260418T191554Z
UID:10004768-1779203700-1779210900@visitoliver.com
SUMMARY:Girls Adventure Outdoor Leadership
DESCRIPTION:Girls outdoor adventure leadership (ages 13-15) is scheduled to start on Tuesday April 28th! Register ASAP to avoid program cancellation. \n\nThis group will canoe\, hike\, slackline\, disc golf and build confidence getting active in the outdoors. \n\nRegistration: https://app.amilia.com/…/townofol…/api/Program/Detail…
URL:https://visitoliver.com/event/girls-adventure-outdoor-leadership/2026-05-19/
LOCATION:Oliver Community Park\, 6359 Park Drive British Columbia Oliver V0H 1T0 Canada\, Oliver\, British Columbia\, V0H 1T0\, Canada
ATTACH;FMTTYPE=image/jpeg:https://visitoliver.com/wp-content/uploads/2026/04/672682283_1544561384345364_4517655411995682823_n.jpg
ORGANIZER;CN="Oliver Parks &amp%3B Recreation":MAILTO:recreation@oliver.ca
END:VEVENT
BEGIN:VEVENT
DTSTART;TZID=UTC:20260526T151500
DTEND;TZID=UTC:20260526T171500
DTSTAMP:20260421T114328
CREATED:20260418T172314Z
LAST-MODIFIED:20260418T191554Z
UID:10004769-1779808500-1779815700@visitoliver.com
SUMMARY:Girls Adventure Outdoor Leadership
DESCRIPTION:Girls outdoor adventure leadership (ages 13-15) is scheduled to start on Tuesday April 28th! Register ASAP to avoid program cancellation. \n\nThis group will canoe\, hike\, slackline\, disc golf and build confidence getting active in the outdoors. \n\nRegistration: https://app.amilia.com/…/townofol…/api/Program/Detail…
URL:https://visitoliver.com/event/girls-adventure-outdoor-leadership/2026-05-26/
LOCATION:Oliver Community Park\, 6359 Park Drive British Columbia Oliver V0H 1T0 Canada\, Oliver\, British Columbia\, V0H 1T0\, Canada
ATTACH;FMTTYPE=image/jpeg:https://visitoliver.com/wp-content/uploads/2026/04/672682283_1544561384345364_4517655411995682823_n.jpg
ORGANIZER;CN="Oliver Parks &amp%3B Recreation":MAILTO:recreation@oliver.ca
END:VEVENT
BEGIN:VEVENT
DTSTART;TZID=UTC:20260602T151500
DTEND;TZID=UTC:20260602T171500
DTSTAMP:20260421T114328
CREATED:20260418T172314Z
LAST-MODIFIED:20260418T191554Z
UID:10004770-1780413300-1780420500@visitoliver.com
SUMMARY:Girls Adventure Outdoor Leadership
DESCRIPTION:Girls outdoor adventure leadership (ages 13-15) is scheduled to start on Tuesday April 28th! Register ASAP to avoid program cancellation. \n\nThis group will canoe\, hike\, slackline\, disc golf and build confidence getting active in the outdoors. \n\nRegistration: https://app.amilia.com/…/townofol…/api/Program/Detail…
URL:https://visitoliver.com/event/girls-adventure-outdoor-leadership/2026-06-02/
LOCATION:Oliver Community Park\, 6359 Park Drive British Columbia Oliver V0H 1T0 Canada\, Oliver\, British Columbia\, V0H 1T0\, Canada
ATTACH;FMTTYPE=image/jpeg:https://visitoliver.com/wp-content/uploads/2026/04/672682283_1544561384345364_4517655411995682823_n.jpg
ORGANIZER;CN="Oliver Parks &amp%3B Recreation":MAILTO:recreation@oliver.ca
END:VEVENT
END:VCALENDAR