BEGIN:VCALENDAR
VERSION:2.0
PRODID:-//Oliver Tourism - ECPv6.11.2.1//NONSGML v1.0//EN
CALSCALE:GREGORIAN
METHOD:PUBLISH
X-WR-CALNAME:Oliver Tourism
X-ORIGINAL-URL:https://visitoliver.com
X-WR-CALDESC:Events for Oliver Tourism
REFRESH-INTERVAL;VALUE=DURATION:PT1H
X-Robots-Tag:noindex
X-PUBLISHED-TTL:PT1H
BEGIN:VTIMEZONE
TZID:UTC
BEGIN:STANDARD
TZOFFSETFROM:+0000
TZOFFSETTO:+0000
TZNAME:UTC
DTSTART:20260101T000000
END:STANDARD
END:VTIMEZONE
BEGIN:VEVENT
DTSTART;TZID=UTC:20260927T140000
DTEND;TZID=UTC:20260927T160000
DTSTAMP:20260423T181719
CREATED:20251220T195216Z
LAST-MODIFIED:20260130T220701Z
UID:10003880-1790517600-1790524800@visitoliver.com
SUMMARY:Sunday Service | Live Music
DESCRIPTION:Live Music on the Patio all season \n\nConfess your love for great wine and live music by coming to Blasted Church on Sunday!\n\nEnjoy complimentary live music from 2–4 p.m. on Sundays on our patio all season long.\n\nPair heavenly tunes with snacks by Chef John Burke and wines by the glass or bottle\, and consider this your afternoon pilgrimage to wine country bliss. \n\nSunday\, May 10 – Okanagan Sax  \n\nSunday\, May 17 – Tom Richardson\n\nSunday\, June 21 – Lachlan Gann\n\nSunday\, June 28 – Will Schlackl\n\nSunday\, July 5 -Lachlan Gann\n\nSunday\, July 12 – Will Schlackl\n\nSunday\, July 19 – Okanagan Sax \n\nSunday\, July 26 – R n R\n\nSunday\, August 2 – Will Schlackl\n\nSunday\, August 9 – Okanagan Sax \n\nSunday\, August 16 – Tom Richardson\n\nSunday\, August 23 – R n R\n\nSunday\, August 30 -Lachlan Gann\n\nSunday\, Sept. 6 – Ethan Fuse\n\nSunday\, Sept. 13 – Okanagan Sax\n\nSunday\, Sept. 20 – Tom Richardson\n\nSunday\, Sept. 27 – R n R
URL:https://visitoliver.com/event/sunday-service-live-music/2026-09-27/
LOCATION:Blasted Church\, 378 Parsons Rd\, Okanagan Fallas\, V0H 1R5\, Canada
ATTACH;FMTTYPE=image/jpeg:https://visitoliver.com/wp-content/uploads/2025/12/Wine-Shop-2025-1024x768-1.jpg
END:VEVENT
BEGIN:VEVENT
DTSTART;TZID=UTC:20260930T120000
DTEND;TZID=UTC:20260930T120000
DTSTAMP:20260423T181719
CREATED:20260326T213732Z
LAST-MODIFIED:20260326T213733Z
UID:10004654-1790769600-1790769600@visitoliver.com
SUMMARY:National Truth And Reconciliation Day
DESCRIPTION:Our 2025 event saw 40 youth play a recreational hockey game. Members of the OIB\, Chief\, Council and community dignitaries spoke to the crowds about the importance of reflection on National Day for Truth and Reconciliation. 
URL:https://visitoliver.com/event/national-truth-and-reconciliation-day/
LOCATION:Oliver Ice Arena\, 6359 Park Drive British Columbia Oliver V0H 1T4 Canada\, Oliver\, British Columbia\, V0H 1T4\, Canada
ATTACH;FMTTYPE=image/jpeg:https://visitoliver.com/wp-content/uploads/2026/03/Truth-and-Reconciliation-Graphic.jpg
ORGANIZER;CN="Osoyoos Indian Band":MAILTO:osoyoosband@oib.ca
END:VEVENT
BEGIN:VEVENT
DTSTART;TZID=UTC:20261001T080000
DTEND;TZID=UTC:20261001T170000
DTSTAMP:20260423T181719
CREATED:20251015T154723Z
LAST-MODIFIED:20260130T213747Z
UID:10002564-1790841600-1790874000@visitoliver.com
SUMMARY:Rumours - The Ultimate Fleetwood Mac Tribute Show
DESCRIPTION:VaughnCo Entertainment is proud to present “Rumours” The Ultimate Fleetwood Mac tribute show based in Los Angeles\, California.  The group recreates the legendary band in its youthful heyday from 1975-1979. “It’s been said imitation is the sincerest form of flattery. I say THANK YOU!”- Richard DashutRecord Producer – Fleetwood Mac albums including Rumours\, Tusk\, LiveMirage\, Tango In The Night\, and Time.After finding huge success in Los Angeles\, selling out their regular Roxy Theatre performances month after month\, the band moved from the world famous Sunset Strip to Casinos\, Theatres\, and clubs all over Canada and the United States.  Rumours has meticulously put together a show that spares no detail. From period accurate equipment and costumes to spot on characterizations and musical performances\, “Rumours” takes you back to a time when music was still an unbridled cultural experience\, and bands weren’t afraid to put on a show.  Relive the rock and roll magic with “Rumours” The Ultimate Fleetwood Mac Tribute Show!   \n\nTICKETS: $61.50Presale for subscribers starts Oct 14 @ 10:00am- get front of the line access with the promo code found the newsletter. Tickets go on sale to the general public October 5 @ 10:00am. \n\nBUY TICKETS HERE
URL:https://visitoliver.com/event/rumours-the-ultimate-fleetwood-mac-tribute-show/
LOCATION:Venables Theatre\, Oliver\, British Columbia\, V0H 1T0\, Canada
CATEGORIES:OTA Signature Stakeholder Event
ATTACH;FMTTYPE=image/png:https://visitoliver.com/wp-content/uploads/2025/10/rumours-oliver-1080x1080-43_orig.png
ORGANIZER;CN="Venables Theatre":MAILTO:manager@venablestheatre.ca
END:VEVENT
BEGIN:VEVENT
DTSTART;TZID=UTC:20261003T080000
DTEND;TZID=UTC:20261003T170000
DTSTAMP:20260423T181719
CREATED:20260419T211652Z
LAST-MODIFIED:20260419T211653Z
UID:10004786-1791014400-1791046800@visitoliver.com
SUMMARY:The Larix 10k | IT'S TIME TO RUN
DESCRIPTION:The Larix Trail Race \n\nThe Larix 10k Trail race returns for its second year! And stay tuned\, because this time\, there wont just be a 10K \n\nSign up and further race details coming soon
URL:https://visitoliver.com/event/the-larix-10k-its-time-to-run/
LOCATION:Baldy Mountain Resort\, 2680 Mount Baldy Rd British Columbia Oliver\, BC V0H 1T0 Canada\, Oliver\, BC\, British Columbia\, V0H 1T0\, Canada
ATTACH;FMTTYPE=image/png:https://visitoliver.com/wp-content/uploads/2026/04/127.png
END:VEVENT
BEGIN:VEVENT
DTSTART;TZID=UTC:20261003T080000
DTEND;TZID=UTC:20261003T170000
DTSTAMP:20260423T181719
CREATED:20260419T212316Z
LAST-MODIFIED:20260419T212317Z
UID:10004792-1791014400-1791046800@visitoliver.com
SUMMARY:Pine & Peak Summer Markets
DESCRIPTION:Pine and Peak Summer Artisan Markets  (Looking for Vendors) \n\nDates: June 27th\, August 1st\, September 5th & 6th\, October 3rd \n\nIntroducing the Pine and Peak Summer market series at Baldy! Enjoy cooler summer temperatures in a gorgeous mountain setting and check out what some hip local vendors have to offer. \n\nWe are actively seeking Vendors for these markets. If interested\, please email fb@skibaldy.com
URL:https://visitoliver.com/event/pine-peak-summer-markets/2026-10-03/
LOCATION:Baldy Mountain Resort\, 2680 Mount Baldy Rd British Columbia Oliver\, BC V0H 1T0 Canada\, Oliver\, BC\, British Columbia\, V0H 1T0\, Canada
ATTACH;FMTTYPE=image/png:https://visitoliver.com/wp-content/uploads/2026/04/125.png
END:VEVENT
BEGIN:VEVENT
DTSTART;TZID=UTC:20261010T080000
DTEND;TZID=UTC:20261010T110000
DTSTAMP:20260423T181719
CREATED:20260407T195815Z
LAST-MODIFIED:20260407T195816Z
UID:10004699-1791619200-1791630000@visitoliver.com
SUMMARY:Wings & Wheels Breakfast
DESCRIPTION:Start your morning with engines\, excitement\, and a stack of pancakes at the Wings & Wheels Breakfast! Hosted at Oliver Airport (CAU3) in partnership with COPA Flight 158\, this lively community event brings together aviation enthusiasts and classic car lovers alike. \n\nEnjoy a delicious breakfast while exploring an impressive lineup of aircraft and vintage vehicles\, courtesy of the Oliver Vintage Car Club. With planes overhead\, polished classics on display\, and plenty of friendly faces\, it’s the perfect outing for families\, friends\, and visitors. \n\nJoin in on one (or all!) of the 2026 dates—April 18\, June 20\, August 15\, and October 10—from 8:00 to 11:00 am. Breakfast is just $10 per plate\, and everyone is welcome. \n\nPlanes\, cars\, food\, and community—Wings & Wheels is where it all comes together in Oliver!
URL:https://visitoliver.com/event/wings-wheels-breakfast/2026-10-10/
LOCATION:Oliver Municipal Airport\, 5811 Airport Street British Columbia Oliver V0H 1T0 Canada\, Oliver\, British Columbia\, V0H 1T0\, Canada
ATTACH;FMTTYPE=image/jpeg:https://visitoliver.com/wp-content/uploads/2026/04/1000011858.jpg
ORGANIZER;CN="South Okanagan Flying Club":MAILTO:sofc.oliver@gmail.com
END:VEVENT
BEGIN:VEVENT
DTSTART;TZID=UTC:20261016T193000
DTEND;TZID=UTC:20261016T213000
DTSTAMP:20260423T181719
CREATED:20260423T170318Z
LAST-MODIFIED:20260423T170319Z
UID:10004801-1792179000-1792186200@visitoliver.com
SUMMARY:Collage Trad - South Okangan Concert Series presented by Venables Theatre
DESCRIPTION:About the Performance \n\nTake some of the hottest\, award-winning\, contemporary fiddlers from Western Canada\, mixed with complexarrangements and a thrilling rhythmic underlay and you’ve got… Collage Trad. A musical melting pot of localfiddle traditions with a dash of swing\, a pinch of jazz\, a sprinkle of rock and pure folk. Their music and spiritis uplifting and energizing. Collage Trad has developed an explosive\, exceptionally tight\, cohesive sound. \n\nThis energetic and gripping musical experience is the result of a creative collaboration between sixexceptional musicians with strong traditional music roots. Collage Trad is led by fiddler\, Gabriel Dubreuil.Gabriel is joined by Andy Hillhouse (guitar)\, Allan Dionne (drums/accordion) and Wynston Minckler (bass)\,and an award winning roster of fiddlers including Mark Sullivan\, Serena Eades\, Danielle Leonard and AnnikaWilson. \n\n​ \n\nPart of the South Okanagan Concert Series \n\nFriday October 16 – Collage Trad \n\nSunday November 15 – All the Madmen \n\nThursday January 21 – Aurora Piano Trio \n\nFriday April 2 – Virginia Sparvier-Wells Trio \n\nTICKETS: \n\nIndividual Event – $35 \n\n2-3 Events – $29.50 each \n\n4 Events – $27 each \n\nStudents – $5 \n\nBuy Series Tickets Here \n\nBuy Single Event Tickets Here
URL:https://visitoliver.com/event/collage-trad-south-okangan-concert-series-presented-by-venables-theatre/
ATTACH;FMTTYPE=image/jpeg:https://visitoliver.com/wp-content/uploads/2026/04/Screenshot-2026-04-23-095428.jpg
END:VEVENT
BEGIN:VEVENT
DTSTART;TZID=UTC:20261030T180000
DTEND;TZID=UTC:20261030T210000
DTSTAMP:20260423T181719
CREATED:20260128T184849Z
LAST-MODIFIED:20260130T224609Z
UID:10004035-1793383200-1793394000@visitoliver.com
SUMMARY:Backyard Farm Winemaker Dinner at Phantom Creek
DESCRIPTION:Backyard Farm Winemaker Dinner Series – At Phantom Creek EstatesFeaturing Chef Chris Van Hooydonk of Backyard FarmWe are delighted to invite you to our 2026 Backyard Farm Winemaker Dinner Series—a collection of five intimate\, four-course dining experiences hosted at Phantom Creek Estates throughout the year.Celebrated for his farm-driven philosophy and refined\, seasonal cuisine\, Chris Van Hooydonk returns to the estate to create thoughtfully composed menus that showcase local ingredients at their peak. Each dinner is expertly paired with Phantom Creek Estates wines\, with selections curated to elevate the dialogue between vineyard and kitchen.Guests will enjoy an immersive evening of food\, wine\, and storytelling\, set within the elegant surroundings of the estate\, with insights shared by our winemaking team throughout the experience.Now Open for BookingGuests may reserve any one—or all\, of the following Winemaker Dinners in the Backyard Farm Series:March 27\, 2026May 9\, 2026July 4\, 2026October 30\, 2026December 12\, 2026Event Details (per dinner)🕕 6:00 p.m.🍽 Four-course paired dinner💲 $225 per guest🔞 19+ eventWine Club Preferred PricingWine Club members receive preferred pricing for the member and one guest. To ensure this is applied correctly\, please contact Tess at wineclub@phantomcreekestates.com for assistance with your reservation.Dress CodeBusiness casual\, or as elevated as you wish—this is your excuse to dress up if you’d like!Seating is limited for each date. We look forward to welcoming you back to the estate throughout the year for this special culinary collaboration.If you or any member of your party have dietary needs\, restrictions\, or food allergies\, please let us know in advance so our culinary team may accommodate where possible. For assistance\, contact wineclub@phantomcreekestates.com or concierge@phantomcreekestates.com or call 250.498.8367
URL:https://visitoliver.com/event/backyard-farm-winemaker-dinner-at-phantom-creek/2026-10-30/
LOCATION:Phantom Creek Estates\, 4315 Black Sage Road British Columbia Oliver Canada\, Oliver\, British Columbia\, Canada
ATTACH;FMTTYPE=image/avif:https://visitoliver.com/wp-content/uploads/2026/01/Phantom-Creek-Backyard-Farms.avif
ORGANIZER;CN="Phantom Creek Estates":MAILTO:info@phantomcreekestates.com
END:VEVENT
BEGIN:VEVENT
DTSTART;TZID=UTC:20261115T193000
DTEND;TZID=UTC:20261115T223000
DTSTAMP:20260423T181719
CREATED:20260423T170903Z
LAST-MODIFIED:20260423T170904Z
UID:10004802-1794771000-1794781800@visitoliver.com
SUMMARY:All The Madmen - South Okanagan Concert Series presented by Venables Theatre
DESCRIPTION:About the Performance \n\nAll the MadmenBreaking the Silence\, from Beethoven to Bowie \n\n“The duty of an artist is to reflect their time. In this crucial period of our lives\, when everything feels so desperate\, when each day is a question of survival\, I believe we cannot do anything but mobilize.” \n\nThese words\, spoken by the incredible human and artistic force Nina Simone\, resonate today with a striking relevance. All the Madmen is conceived as a concert where the voices of some of the most influential artists in history resonate with the audience. We bring to the stage artists who\, through their ideologies\, convictions\, and strength of character\, were marginalized in their own time: “Are they all mad?” The works featured in the program are enriched with poems\, texts\, and anecdotes\, allowing the abstract power of music to create a space for emotion\, release\, and collective reflection. \n\nThis program builds a bridge between past and present\, celebrating visionary artists who sought\, through music\, to transform the world. Their works\, born in troubled times\, reflect deep convictions and powerful commitment. From Hasta Siempre by Carlos Puebla in 1965 to the innovative tangos of Piazzolla and Borges\, from the musical defiance of Nina Simone to the boldness of David Bowie in All the Madmen\, and the universal plea of Pau Casals in 1971\, these creations bear the mark of hope and resistance. Long before them\, Beethoven already dreamed of equality and universality through his works. As artists today\, we continue this pursuit by commissioning bold new works from composers around the world\, inspired by this legacy. Music\, whether from yesterday or today\, holds a mysterious power: the ability to transform\, to move us\, and to push us forward\, just as these timeless creators envisioned. \n\nFollowing the great success of the program Résonances — with more than 200 performances since 2020 — the duo Stick&Bow returns with a similar structure\, combining classical masterpieces and contemporary music\, featuring original arrangements for marimba and cello\, crafted and performed with passion\, energy\, subtlety\, and finesse. \n\n​ \n\n\n\n\n\n\n\nPart of the South Okanagan Concert Series \n\nFriday October 16 – Collage Trad \n\nSunday November 15 – All the Madmen \n\nThursday January 21 – Aurora Piano Trio \n\nFriday April 2 – Virginia Sparvier-Wells Trio \n\nTICKETS: \n\nIndividual Event – $35 \n\n2-3 Events – $29.50 each \n\n4 Events – $27 each \n\nStudents – $5 \n\nBuy Series Tickets Here \n\nBuy Single Event Tickets Here
URL:https://visitoliver.com/event/all-the-madmen-south-okanagan-concert-series-presented-by-venables-theatre/
LOCATION:Venables Theatre\, Oliver\, British Columbia\, V0H 1T0\, Canada
ATTACH;FMTTYPE=image/avif:https://visitoliver.com/wp-content/uploads/2026/04/All-the-Madmen-5-x-3-in-1.avif
ORGANIZER;CN="Venables Theatre":MAILTO:manager@venablestheatre.ca
END:VEVENT
BEGIN:VEVENT
DTSTART;TZID=UTC:20261212T180000
DTEND;TZID=UTC:20261212T210000
DTSTAMP:20260423T181719
CREATED:20260128T184849Z
LAST-MODIFIED:20260130T224609Z
UID:10004036-1797098400-1797109200@visitoliver.com
SUMMARY:Backyard Farm Winemaker Dinner at Phantom Creek
DESCRIPTION:Backyard Farm Winemaker Dinner Series – At Phantom Creek EstatesFeaturing Chef Chris Van Hooydonk of Backyard FarmWe are delighted to invite you to our 2026 Backyard Farm Winemaker Dinner Series—a collection of five intimate\, four-course dining experiences hosted at Phantom Creek Estates throughout the year.Celebrated for his farm-driven philosophy and refined\, seasonal cuisine\, Chris Van Hooydonk returns to the estate to create thoughtfully composed menus that showcase local ingredients at their peak. Each dinner is expertly paired with Phantom Creek Estates wines\, with selections curated to elevate the dialogue between vineyard and kitchen.Guests will enjoy an immersive evening of food\, wine\, and storytelling\, set within the elegant surroundings of the estate\, with insights shared by our winemaking team throughout the experience.Now Open for BookingGuests may reserve any one—or all\, of the following Winemaker Dinners in the Backyard Farm Series:March 27\, 2026May 9\, 2026July 4\, 2026October 30\, 2026December 12\, 2026Event Details (per dinner)🕕 6:00 p.m.🍽 Four-course paired dinner💲 $225 per guest🔞 19+ eventWine Club Preferred PricingWine Club members receive preferred pricing for the member and one guest. To ensure this is applied correctly\, please contact Tess at wineclub@phantomcreekestates.com for assistance with your reservation.Dress CodeBusiness casual\, or as elevated as you wish—this is your excuse to dress up if you’d like!Seating is limited for each date. We look forward to welcoming you back to the estate throughout the year for this special culinary collaboration.If you or any member of your party have dietary needs\, restrictions\, or food allergies\, please let us know in advance so our culinary team may accommodate where possible. For assistance\, contact wineclub@phantomcreekestates.com or concierge@phantomcreekestates.com or call 250.498.8367
URL:https://visitoliver.com/event/backyard-farm-winemaker-dinner-at-phantom-creek/2026-12-12/
LOCATION:Phantom Creek Estates\, 4315 Black Sage Road British Columbia Oliver Canada\, Oliver\, British Columbia\, Canada
ATTACH;FMTTYPE=image/avif:https://visitoliver.com/wp-content/uploads/2026/01/Phantom-Creek-Backyard-Farms.avif
ORGANIZER;CN="Phantom Creek Estates":MAILTO:info@phantomcreekestates.com
END:VEVENT
BEGIN:VEVENT
DTSTART;TZID=UTC:20270121T193000
DTEND;TZID=UTC:20270121T220000
DTSTAMP:20260423T181719
CREATED:20260423T172109Z
LAST-MODIFIED:20260423T172110Z
UID:10004803-1800559800-1800568800@visitoliver.com
SUMMARY:Aurora Piano Trio - South Okanagan Concert Series presented by Venables Theatre
DESCRIPTION:About the Performance \n\nThe Aurora Piano Trio has received praise for their passion\, exuberance\, and lyricism as well as sensational performances. Violinist Yuel Yawney and cellist Sungyong Lim\, members of the famed Borealis String Quartet\, joined together with the acclaimed pianist\, Libby Yu to form the Aurora Piano Trio. Each of the members of the Trio has performed around the world and bring their extensive chamber music experience together to create an ensemble of the highest calibre. \n\n​ \n\nFounded in 2019 and mentored by the great Canadian impresario\, George Zukerman\, the Trio has garnered much critical acclaim. Debuting for the Whistler Chamber Music Society in the Trio’s first season as part of a Western Canadian tour\, the remaining engagements were cancelled due to COVID. In 2021\, the Trio began rebooking engagements and that September was the season opening concert to a sold-out audience for the Cafe Classico Series at the Langley Community Music School. Since then\, the Trio has had numerous performances around BC\, from the Music by the Sea Festival in Victoria to standing ovations in Vancouver at the Orpheum ANNEX and the Centre Stage at Surrey City Hall. More recently\, the Aurora toured Vancouver Island performing in Port Alberni\, Hornby and Denman Islands\, as well as Qualicum Beach and Tofino and later presenting concerts in Eastern BC. Due to many audience requests\, the Aurora was invited back to perform at the Langley Community Music School for the Rose Gellert Hall Series. The Trio has also performed and taught at the recently inaugurated Cascade Peaks ChamberFest alongside artists from the Gryphon Trio\, New Orford and Borealis String Quartets. Among other highlights of this season was a thrilling performance of the Beethoven Triple Concerto with the Vancouver Philharmonic Orchestra. With bookings into 2025\, the Aurora Piano Trio continues to enthral audiences wherever they perform. \n\n​ \n\nPart of the South Okanagan Concert Series \n\nFriday October 16 – Collage Trad \n\nSunday November 15 – All the Madmen \n\nThursday January 21 – Aurora Piano Trio \n\nFriday April 2 – Virginia Sparvier-Wells Trio \n\nTICKETS: \n\nIndividual Event – $35 \n\n2-3 Events – $29.50 each \n\n4 Events – $27 each \n\nStudents – $5 \n\nBuy Series Tickets Here \n\nBuy Single Event Tickets Here
URL:https://visitoliver.com/event/aurora-piano-trio-south-okanagan-concert-series-presented-by-venables-theatre/
LOCATION:Venables Theatre\, Oliver\, British Columbia\, V0H 1T0\, Canada
ATTACH;FMTTYPE=image/avif:https://visitoliver.com/wp-content/uploads/2026/04/d78fb5_90645c4b98f84cdd93e3c651f75f41dcmv2.avif
ORGANIZER;CN="Venables Theatre":MAILTO:manager@venablestheatre.ca
END:VEVENT
BEGIN:VEVENT
DTSTART;TZID=UTC:20270402T193000
DTEND;TZID=UTC:20270402T213000
DTSTAMP:20260423T181719
CREATED:20260423T172640Z
LAST-MODIFIED:20260423T172642Z
UID:10004804-1806694200-1806701400@visitoliver.com
SUMMARY:Virginia Sparvier-Wells Trio - South Okanagan Concert Series presented by Venables Theatre
DESCRIPTION:About the Performance \n\nVee is an Alberta-based Cree\, multi-disciplinary artist form Cowessess FN (Sk). She interweaves land\, Indigenous identity\, history\, and language throughout her dance and music creation/performance practice. A classically trained flutist\, she holds a Bachelor of Music degree from the University of Calgary and an MFA in Contemporary Arts from Simon Fraser University. Her work fuses together traditional language and dance with her own contemporary experiences as an Indigenous woman and Two-Spirit person. Her most recent album Prairie Dusk evokes the sounds and stories of the prairies and includes commissioned work as well as new originals. This album won YYC Music Classical Album of the Year 2024 and Global music awards 2024. This is a follow-up album to her award winning first Indigenous classical album Incandescent Tales (2021). A 2022 and 2023 Western Canadian Music Awards Nominee\, and 2025 Juno Nomination (Classical Large Ensemble album) her musical\, composition\, and soundscape work focuses on land-based creation and ideas of connection\, disconnection\, and home. “Too Good; That MAY Be”\, animmersive soundscape performance was shown at the Urban Shaman Gallery in Winnipeg as part of “The 60’s Scoop; A Place Between” in 2017. Her compositions include Muskwa’s Mountain Home (2021)\, Inni (2018) and soundscapes including beguiling (the)the land (2020). Jessica currently resides in Cochrane\, Alberta\, where she works for the City of Calgary as Curator of Indigenous Art. She is also co-founder and co-director Wild Mint Arts\,an Indigenous arts company and is a Laureate of the Hnatyshyn Foundation REVEALIndigenous Art Awards (2017). \n\n​ \n\nConnor Chee is a Diné (Navajo) composer and pianist known for blending Western classical music with the rich cultural heritage of the Navajo people. His compositions often draw inspiration from traditional Navajo stories and beliefs\, creating a powerful and evocative sound that speaks to both his heritage and his classical training. Connor is dedicated to music education and cultural preservation\, inspiring the next generation of musicians. Chee made his Carnegie Hall debut at the age of 12 after winning a gold medal in the World Piano Competition and is a graduate of both the Eastman School of Music and the University of Cincinnati’s College-Conservatory of Music. Chee’s work has earned him national acclaim\, including performances on NPR’s Performance Today and a commission from Your Classical MPR for his tribute to the Navajo Code Talkers\, Unbroken. Chee has released five studio albums\, and a popular collection of Music Videos available on YouTube. His latest album\, Across the Desert: The Long Walk Home\, honors the resilience of the Navajo people and the journey back to their ancestral lands.  \n\nHolly Bhattacharya was born in Durham\, U.K. to two musician parents and she began leaning the violin at the age of four. She was a pupil at Chetham’s School of Music in Manchester and later studied at the Royal Northern College of Music under the tutelage of Richard Deakin\, Wen Zhou Li and Christopher Rowland (chamber music). Her collegequartet performed regularly throughout the U.K. and won the Hirsch Prize for Chamber Music in 2005. She toured Europe and Kasakhstan as a member of the European Union Youth Orchestra\, with whom she played for four years. Since graduating from college\, Holly has enjoyed a varied career\, spanning orchestral\, chamber\, theatre and commercial music as well as teaching\, coaching and invigilating for music competitions. She has been a regular player with many of the UK’s top orchestras including the London Philharmonic and Royal Philharmonic Orchestra. Holly also performed as part of the Bowdoin Summer Music Festival (Maine\, USA) and MusicaRiva Festival (Lake Garda\, Italy) Theatre work has included almost eight years of performances with The Phantom of the Opera in London’s West End\, (U.K.) Quadraphenia on tour\, Thursford Christmas Spectacular and The Independent Opera Co. (Old Vic Theatre\, London) She also worked regularly at Glyndebourne Theatre and took part in several education projects and workshops. Pop work has seen Holly record and perform with the likes of Take That\, Jarvis Cocker\, Gorillaz\, Mike Oldfield\, Neneh Cherry\, De La Soul\, Florence and the Machine and Kylie Minogue. Chambermusic has taken Holly to the International Chamber Festival of Music in Alcala\, (Spain) and all around the Mediterranean and Norwegian Fjords as a guest entertainer for SAGA cruises. She has led workshops at Lancing College and BHASVIC\, Brighton\, as well as regular concerts with Ensemble Reza around the South of England. Holly taught violin for four years at Brighton College (UK Independent School of the Decade) and was a judge for the musiccompetitions at Hurstpierpoint College\, Worth School and St. John’s\, Leatherhead. Holly is enjoying making Canada her new home and already has a busy class of violin and piano students. She loves performing and is looking forward to more concerts and collaborations in the future.   \n\n​ \n\nPart of the South Okanagan Concert Series \n\nFriday October 16 – Collage Trad \n\nSunday November 15 – All the Madmen \n\nThursday January 21 – Aurora Piano Trio \n\nFriday April 2 – Virginia Sparvier-Wells Trio \n\nTICKETS: \n\nIndividual Event – $35 \n\n2-3 Events – $29.50 each \n\n4 Events – $27 each \n\nStudents – $5 \n\nBuy Series Tickets Here \n\nBuy Single Event Tickets Here
URL:https://visitoliver.com/event/virginia-sparvier-wells-trio-south-okanagan-concert-series-presented-by-venables-theatre/
LOCATION:Venables Theatre\, Oliver\, British Columbia\, V0H 1T0\, Canada
ATTACH;FMTTYPE=image/avif:https://visitoliver.com/wp-content/uploads/2026/04/d78fb5_0796db028cde4fd6a2e86c8a9f94b90dmv2.avif
ORGANIZER;CN="Venables Theatre":MAILTO:manager@venablestheatre.ca
END:VEVENT
END:VCALENDAR