BEGIN:VCALENDAR
VERSION:2.0
PRODID:-//Oliver Tourism - ECPv6.11.2.1//NONSGML v1.0//EN
CALSCALE:GREGORIAN
METHOD:PUBLISH
X-WR-CALNAME:Oliver Tourism
X-ORIGINAL-URL:https://visitoliver.com
X-WR-CALDESC:Events for Oliver Tourism
REFRESH-INTERVAL;VALUE=DURATION:PT1H
X-Robots-Tag:noindex
X-PUBLISHED-TTL:PT1H
BEGIN:VTIMEZONE
TZID:UTC
BEGIN:STANDARD
TZOFFSETFROM:+0000
TZOFFSETTO:+0000
TZNAME:UTC
DTSTART:20260101T000000
END:STANDARD
END:VTIMEZONE
BEGIN:VEVENT
DTSTART;TZID=UTC:20260422T080000
DTEND;TZID=UTC:20260425T170000
DTSTAMP:20260425T014526
CREATED:20260408T203419Z
LAST-MODIFIED:20260408T203553Z
UID:10004716-1776844800-1777136400@visitoliver.com
SUMMARY:April Events @ Oliver Senior Centre
DESCRIPTION:Join in the fun all April long at The Oliver Senior Centre
URL:https://visitoliver.com/event/april-events-oliver-senior-centre/2026-04-22/
LOCATION:Oliver Senior Centre\, 5876 Airport Street British Columbia Oliver V0H 1T0 Canada\, Oliver\, British Columbia\, V0H 1T0\, Canada
ATTACH;FMTTYPE=application/pdf:https://visitoliver.com/wp-content/uploads/2026/04/April-2026-Oliver-Senior-Centre-Calendar-1.pdf
ORGANIZER;CN="Oliver Senior Centre Society":MAILTO:oscs@eastlink.ca
END:VEVENT
BEGIN:VEVENT
DTSTART;TZID=UTC:20260423T080000
DTEND;TZID=UTC:20260426T170000
DTSTAMP:20260425T014526
CREATED:20260408T203419Z
LAST-MODIFIED:20260408T203553Z
UID:10004717-1776931200-1777222800@visitoliver.com
SUMMARY:April Events @ Oliver Senior Centre
DESCRIPTION:Join in the fun all April long at The Oliver Senior Centre
URL:https://visitoliver.com/event/april-events-oliver-senior-centre/2026-04-23/
LOCATION:Oliver Senior Centre\, 5876 Airport Street British Columbia Oliver V0H 1T0 Canada\, Oliver\, British Columbia\, V0H 1T0\, Canada
ATTACH;FMTTYPE=application/pdf:https://visitoliver.com/wp-content/uploads/2026/04/April-2026-Oliver-Senior-Centre-Calendar-1.pdf
ORGANIZER;CN="Oliver Senior Centre Society":MAILTO:oscs@eastlink.ca
END:VEVENT
BEGIN:VEVENT
DTSTART;TZID=UTC:20260424T080000
DTEND;TZID=UTC:20260427T170000
DTSTAMP:20260425T014526
CREATED:20260408T203419Z
LAST-MODIFIED:20260408T203553Z
UID:10004718-1777017600-1777309200@visitoliver.com
SUMMARY:April Events @ Oliver Senior Centre
DESCRIPTION:Join in the fun all April long at The Oliver Senior Centre
URL:https://visitoliver.com/event/april-events-oliver-senior-centre/2026-04-24/
LOCATION:Oliver Senior Centre\, 5876 Airport Street British Columbia Oliver V0H 1T0 Canada\, Oliver\, British Columbia\, V0H 1T0\, Canada
ATTACH;FMTTYPE=application/pdf:https://visitoliver.com/wp-content/uploads/2026/04/April-2026-Oliver-Senior-Centre-Calendar-1.pdf
ORGANIZER;CN="Oliver Senior Centre Society":MAILTO:oscs@eastlink.ca
END:VEVENT
BEGIN:VEVENT
DTSTART;TZID=UTC:20260425T080000
DTEND;TZID=UTC:20260425T100000
DTSTAMP:20260425T014526
CREATED:20260311T195017Z
LAST-MODIFIED:20260311T195018Z
UID:10004527-1777104000-1777111200@visitoliver.com
SUMMARY:Sessions Saturday Ride
DESCRIPTION:Join Sesssions Outdoor Sports on the Saturday Rides. \n\nView Sessions Outdoor Sports on Instagram or Facebook for updates or reach out to Regan Pain at 250-487-9223
URL:https://visitoliver.com/event/sessions-saturday-ride/2026-04-25/
LOCATION:Sessions Outdoor Sports\, 8503 78 Ave\, Osoyoos\, V0H 1V0\, Canada
ATTACH;FMTTYPE=image/jpeg:https://visitoliver.com/wp-content/uploads/2026/03/2026-03-05-Sessions-Saturday-1-scaled.jpg
ORGANIZER;CN="Sessions Outdoor Sports":MAILTO:info@sessionsoutdoorsports.ca
END:VEVENT
BEGIN:VEVENT
DTSTART;TZID=UTC:20260425T080000
DTEND;TZID=UTC:20260428T170000
DTSTAMP:20260425T014526
CREATED:20260408T203419Z
LAST-MODIFIED:20260408T203553Z
UID:10004719-1777104000-1777395600@visitoliver.com
SUMMARY:April Events @ Oliver Senior Centre
DESCRIPTION:Join in the fun all April long at The Oliver Senior Centre
URL:https://visitoliver.com/event/april-events-oliver-senior-centre/2026-04-25/
LOCATION:Oliver Senior Centre\, 5876 Airport Street British Columbia Oliver V0H 1T0 Canada\, Oliver\, British Columbia\, V0H 1T0\, Canada
ATTACH;FMTTYPE=application/pdf:https://visitoliver.com/wp-content/uploads/2026/04/April-2026-Oliver-Senior-Centre-Calendar-1.pdf
ORGANIZER;CN="Oliver Senior Centre Society":MAILTO:oscs@eastlink.ca
END:VEVENT
BEGIN:VEVENT
DTSTART;TZID=UTC:20260425T130000
DTEND;TZID=UTC:20260425T130000
DTSTAMP:20260425T014526
CREATED:20260424T210958Z
LAST-MODIFIED:20260424T211006Z
UID:10004833-1777122000-1777122000@visitoliver.com
SUMMARY:Blooming Good Fun!
DESCRIPTION:Celebrate the flavours of spring at Blooming Good Fun!\, a deliciously creative workshop series hosted by Domaine Artema Winery in collaboration with Flavor Theory. \n\nThese hands-on pairing experiences invite you to explore the art and science of food and wine in a relaxed\, welcoming setting. Choose from two unique sessions: a Wine & Cheese Pairing Workshop on April 25\, or a Charcuterie & Wine Pairing Workshop on May 23—both beginning at 1 PM. Guided by local experts\, you’ll learn how to balance flavours\, elevate your palate\, and create perfect pairings to impress at your next gathering. \n\nTickets are $40 per person (plus GST)\, with exclusive discounts available for wine club members. Whether you’re a seasoned wine lover or simply curious to learn more\, this is the perfect way to sip\, savour\, and welcome the season.
URL:https://visitoliver.com/event/blooming-good-fun/2026-04-25/
LOCATION:Domaine Artema Winery\, 4078 Black Sage Rd\, Oliver\, BC\, Canada
ATTACH;FMTTYPE=image/png:https://visitoliver.com/wp-content/uploads/2026/04/Spring-2026-Classes-Ad.png
ORGANIZER;CN="Domaine Artema Winery":MAILTO:wineclub@domaineartema.ca
END:VEVENT
BEGIN:VEVENT
DTSTART;TZID=UTC:20260425T190000
DTEND;TZID=UTC:20260425T190000
DTSTAMP:20260425T014526
CREATED:20260328T200238Z
LAST-MODIFIED:20260328T200240Z
UID:10004684-1777143600-1777143600@visitoliver.com
SUMMARY:Sage Valley Voices | Community Choir
DESCRIPTION:Celebrate 25 years of music\, memories\, and community with the Sage Valley Voices Community Choir! This special anniversary concert\, “Thank You for the Music and Memories\,” brings together beloved songs and heartfelt performances that reflect the choir’s rich history in Oliver. \n\nJoin them for an evening (or afternoon) of uplifting harmonies at Park Drive Church on April 25 at 7:00 PM or April 26 at 2:30 PM. Whether you’re a longtime supporter or a first-time listener\, this milestone concert promises to be a meaningful celebration of local talent and community spirit. \n\nAdmission is $15\, and children 12 and under attend for free.
URL:https://visitoliver.com/event/sage-valley-voices-community-choir/2026-04-25/
LOCATION:Park Drive Church\, 6570 Park Drive British Columbia Oliver V0H 1T0 Canada\, Oliver\, British Columbia\, V0H 1T0\, Canada
ATTACH;FMTTYPE=image/jpeg:https://visitoliver.com/wp-content/uploads/2026/03/654812333_3092897780898437_5519519715001817453_n.jpg
ORGANIZER;CN="Oliver Community Arts Council":MAILTO:olivercac@gmail.com
END:VEVENT
BEGIN:VEVENT
DTSTART;TZID=UTC:20260425T193000
DTEND;TZID=UTC:20260425T210000
DTSTAMP:20260425T014526
CREATED:20260320T170533Z
LAST-MODIFIED:20260410T171520Z
UID:10004591-1777145400-1777150800@visitoliver.com
SUMMARY:Goodnight Desdemona (Good Morning Juliet) Presented by SOAP Theatre
DESCRIPTION:Goodnight Desdemona (Good Morning Juliet) is an exuberant comedy and feminist revisioning of Shakespeare’s Othello and Romeo and Juliet. It takes us from a dusty office in Canada’s Queen’s University\, into the fraught and furious worlds of two of Shakespeare’s best-known tragedies\, and turns them upside-down.​Constance Ledbelly is the beleaguered “spinster” academic\, and unlikely heroine who embarks on a quest for Shakespearean origins and\, ultimately\, her own identity. When she deciphers an ancient and neglected manuscript\, Constance is propelled through a very modern rabbit hole and lands smack in the middle of the tragic turning points of each play in turn. Her attempts to save first Desdemona\, then Juliet\, from their harrowing fates\, result in a wild unpredictable ride through comedy and near-tragedy\, as mild-mannered Constance learns to love\, sword-fight\, dance Renaissance-style\, and master a series of disguises… Goodnight Desdemona (Good Morning Juliet) a gender-bendy\, big-hearted and crazily intelligent romp\, where irony and anger sing in perfect harmony with innocence and poignancy.“Clever\, pointed and entertaining… This play is one of the wildest and wooliest feminist reappraisals that the theatre has seen\, and one of the most intellectually ambitious.”The Globe and Mail​“Stratford-upon-Acid: that’s where MacDonald’s dizzying Goodnight Desdemona lives… MacDonald traipses through the canon with glee… Lots of clever fun.”The Village Voice \n\nTICKETS:\n\nAdults Advance: $24Adults Door: $26Students Advance: $16Students Door: $18 \n\nBuy Tickets Here
URL:https://visitoliver.com/event/goodnight-desdemona-good-morning-juliet-presented-by-soap-theatre/2026-04-25/
LOCATION:Venables Theatre\, Oliver\, British Columbia\, V0H 1T0\, Canada
ATTACH;FMTTYPE=image/avif:https://visitoliver.com/wp-content/uploads/2026/03/GDGJ-5x3-1.avif
ORGANIZER;CN="Venables Theatre":MAILTO:manager@venablestheatre.ca
END:VEVENT
END:VCALENDAR