BEGIN:VCALENDAR
VERSION:2.0
PRODID:-//Oliver Tourism - ECPv6.11.2.1//NONSGML v1.0//EN
CALSCALE:GREGORIAN
METHOD:PUBLISH
X-WR-CALNAME:Oliver Tourism
X-ORIGINAL-URL:https://visitoliver.com
X-WR-CALDESC:Events for Oliver Tourism
REFRESH-INTERVAL;VALUE=DURATION:PT1H
X-Robots-Tag:noindex
X-PUBLISHED-TTL:PT1H
BEGIN:VTIMEZONE
TZID:UTC
BEGIN:STANDARD
TZOFFSETFROM:+0000
TZOFFSETTO:+0000
TZNAME:UTC
DTSTART:20260101T000000
END:STANDARD
END:VTIMEZONE
BEGIN:VEVENT
DTSTART;TZID=UTC:20260420T080000
DTEND;TZID=UTC:20260423T170000
DTSTAMP:20260423T014019
CREATED:20260408T203419Z
LAST-MODIFIED:20260408T203553Z
UID:10004714-1776672000-1776963600@visitoliver.com
SUMMARY:April Events @ Oliver Senior Centre
DESCRIPTION:Join in the fun all April long at The Oliver Senior Centre
URL:https://visitoliver.com/event/april-events-oliver-senior-centre/2026-04-20/
LOCATION:Oliver Senior Centre\, 5876 Airport Street British Columbia Oliver V0H 1T0 Canada\, Oliver\, British Columbia\, V0H 1T0\, Canada
ATTACH;FMTTYPE=application/pdf:https://visitoliver.com/wp-content/uploads/2026/04/April-2026-Oliver-Senior-Centre-Calendar-1.pdf
ORGANIZER;CN="Oliver Senior Centre Society":MAILTO:oscs@eastlink.ca
END:VEVENT
BEGIN:VEVENT
DTSTART;TZID=UTC:20260421T080000
DTEND;TZID=UTC:20260424T170000
DTSTAMP:20260423T014019
CREATED:20260408T203419Z
LAST-MODIFIED:20260408T203553Z
UID:10004715-1776758400-1777050000@visitoliver.com
SUMMARY:April Events @ Oliver Senior Centre
DESCRIPTION:Join in the fun all April long at The Oliver Senior Centre
URL:https://visitoliver.com/event/april-events-oliver-senior-centre/2026-04-21/
LOCATION:Oliver Senior Centre\, 5876 Airport Street British Columbia Oliver V0H 1T0 Canada\, Oliver\, British Columbia\, V0H 1T0\, Canada
ATTACH;FMTTYPE=application/pdf:https://visitoliver.com/wp-content/uploads/2026/04/April-2026-Oliver-Senior-Centre-Calendar-1.pdf
ORGANIZER;CN="Oliver Senior Centre Society":MAILTO:oscs@eastlink.ca
END:VEVENT
BEGIN:VEVENT
DTSTART;TZID=UTC:20260422T080000
DTEND;TZID=UTC:20260425T170000
DTSTAMP:20260423T014019
CREATED:20260408T203419Z
LAST-MODIFIED:20260408T203553Z
UID:10004716-1776844800-1777136400@visitoliver.com
SUMMARY:April Events @ Oliver Senior Centre
DESCRIPTION:Join in the fun all April long at The Oliver Senior Centre
URL:https://visitoliver.com/event/april-events-oliver-senior-centre/2026-04-22/
LOCATION:Oliver Senior Centre\, 5876 Airport Street British Columbia Oliver V0H 1T0 Canada\, Oliver\, British Columbia\, V0H 1T0\, Canada
ATTACH;FMTTYPE=application/pdf:https://visitoliver.com/wp-content/uploads/2026/04/April-2026-Oliver-Senior-Centre-Calendar-1.pdf
ORGANIZER;CN="Oliver Senior Centre Society":MAILTO:oscs@eastlink.ca
END:VEVENT
BEGIN:VEVENT
DTSTART;TZID=UTC:20260423T080000
DTEND;TZID=UTC:20260426T170000
DTSTAMP:20260423T014019
CREATED:20260408T203419Z
LAST-MODIFIED:20260408T203553Z
UID:10004717-1776931200-1777222800@visitoliver.com
SUMMARY:April Events @ Oliver Senior Centre
DESCRIPTION:Join in the fun all April long at The Oliver Senior Centre
URL:https://visitoliver.com/event/april-events-oliver-senior-centre/2026-04-23/
LOCATION:Oliver Senior Centre\, 5876 Airport Street British Columbia Oliver V0H 1T0 Canada\, Oliver\, British Columbia\, V0H 1T0\, Canada
ATTACH;FMTTYPE=application/pdf:https://visitoliver.com/wp-content/uploads/2026/04/April-2026-Oliver-Senior-Centre-Calendar-1.pdf
ORGANIZER;CN="Oliver Senior Centre Society":MAILTO:oscs@eastlink.ca
END:VEVENT
BEGIN:VEVENT
DTSTART;TZID=UTC:20260423T173000
DTEND;TZID=UTC:20260423T173000
DTSTAMP:20260423T014019
CREATED:20260321T192037Z
LAST-MODIFIED:20260321T192433Z
UID:10004603-1776965400-1776965400@visitoliver.com
SUMMARY:Paint Night at the Oliver Visitors Centre
DESCRIPTION:Get ready for a creative night out in the Wine Capital of Canada! Join us at the Oliver Visitor Centre on April 23 for an unforgettable Paint Night where you’ll create your own take-home masterpiece of the iconic Nʕaylintn (McIntyre Bluff). \n\nWhether you’re a seasoned artist or just in it for the fun\, this guided experience is all about relaxing\, getting creative\, and enjoying great company. Indulge in delicious snacks and beverages prepared by OKGN2GO as you paint your way through the evening. \n\nPerfect for friends\, date night\, or a solo outing—this is your chance to sip\, socialize\, and create something uniquely yours. Seats are limited\, so grab your spot early and don’t miss out on this vibrant\, feel-good experience in Oliver!
URL:https://visitoliver.com/event/paint-night-at-the-oliver-visitors-centre/
LOCATION:Oliver Visitor Centre\, 6431 Station Street British Columbia Oliver V0H 1T0 Canada\, Oliver\, British Columbia\, V0H 1T0\, Canada
ATTACH;FMTTYPE=image/jpeg:https://visitoliver.com/wp-content/uploads/2026/03/Screenshot-2026-03-21-122247.jpg
END:VEVENT
END:VCALENDAR