BEGIN:VCALENDAR
VERSION:2.0
PRODID:-//Oliver Tourism - ECPv6.11.2.1//NONSGML v1.0//EN
CALSCALE:GREGORIAN
METHOD:PUBLISH
X-WR-CALNAME:Oliver Tourism
X-ORIGINAL-URL:https://visitoliver.com
X-WR-CALDESC:Events for Oliver Tourism
REFRESH-INTERVAL;VALUE=DURATION:PT1H
X-Robots-Tag:noindex
X-PUBLISHED-TTL:PT1H
BEGIN:VTIMEZONE
TZID:UTC
BEGIN:STANDARD
TZOFFSETFROM:+0000
TZOFFSETTO:+0000
TZNAME:UTC
DTSTART:20260101T000000
END:STANDARD
END:VTIMEZONE
BEGIN:VEVENT
DTSTART;TZID=UTC:20260418T080000
DTEND;TZID=UTC:20260421T170000
DTSTAMP:20260421T022723
CREATED:20260408T203419Z
LAST-MODIFIED:20260408T203553Z
UID:10004712-1776499200-1776790800@visitoliver.com
SUMMARY:April Events @ Oliver Senior Centre
DESCRIPTION:Join in the fun all April long at The Oliver Senior Centre
URL:https://visitoliver.com/event/april-events-oliver-senior-centre/2026-04-18/
LOCATION:Oliver Senior Centre\, 5876 Airport Street British Columbia Oliver V0H 1T0 Canada\, Oliver\, British Columbia\, V0H 1T0\, Canada
ATTACH;FMTTYPE=application/pdf:https://visitoliver.com/wp-content/uploads/2026/04/April-2026-Oliver-Senior-Centre-Calendar-1.pdf
ORGANIZER;CN="Oliver Senior Centre Society":MAILTO:oscs@eastlink.ca
END:VEVENT
BEGIN:VEVENT
DTSTART;TZID=UTC:20260419T080000
DTEND;TZID=UTC:20260422T170000
DTSTAMP:20260421T022723
CREATED:20260408T203419Z
LAST-MODIFIED:20260408T203553Z
UID:10004713-1776585600-1776877200@visitoliver.com
SUMMARY:April Events @ Oliver Senior Centre
DESCRIPTION:Join in the fun all April long at The Oliver Senior Centre
URL:https://visitoliver.com/event/april-events-oliver-senior-centre/2026-04-19/
LOCATION:Oliver Senior Centre\, 5876 Airport Street British Columbia Oliver V0H 1T0 Canada\, Oliver\, British Columbia\, V0H 1T0\, Canada
ATTACH;FMTTYPE=application/pdf:https://visitoliver.com/wp-content/uploads/2026/04/April-2026-Oliver-Senior-Centre-Calendar-1.pdf
ORGANIZER;CN="Oliver Senior Centre Society":MAILTO:oscs@eastlink.ca
END:VEVENT
BEGIN:VEVENT
DTSTART;TZID=UTC:20260420T080000
DTEND;TZID=UTC:20260423T170000
DTSTAMP:20260421T022723
CREATED:20260408T203419Z
LAST-MODIFIED:20260408T203553Z
UID:10004714-1776672000-1776963600@visitoliver.com
SUMMARY:April Events @ Oliver Senior Centre
DESCRIPTION:Join in the fun all April long at The Oliver Senior Centre
URL:https://visitoliver.com/event/april-events-oliver-senior-centre/2026-04-20/
LOCATION:Oliver Senior Centre\, 5876 Airport Street British Columbia Oliver V0H 1T0 Canada\, Oliver\, British Columbia\, V0H 1T0\, Canada
ATTACH;FMTTYPE=application/pdf:https://visitoliver.com/wp-content/uploads/2026/04/April-2026-Oliver-Senior-Centre-Calendar-1.pdf
ORGANIZER;CN="Oliver Senior Centre Society":MAILTO:oscs@eastlink.ca
END:VEVENT
BEGIN:VEVENT
DTSTART;TZID=UTC:20260421T080000
DTEND;TZID=UTC:20260424T170000
DTSTAMP:20260421T022723
CREATED:20260408T203419Z
LAST-MODIFIED:20260408T203553Z
UID:10004715-1776758400-1777050000@visitoliver.com
SUMMARY:April Events @ Oliver Senior Centre
DESCRIPTION:Join in the fun all April long at The Oliver Senior Centre
URL:https://visitoliver.com/event/april-events-oliver-senior-centre/2026-04-21/
LOCATION:Oliver Senior Centre\, 5876 Airport Street British Columbia Oliver V0H 1T0 Canada\, Oliver\, British Columbia\, V0H 1T0\, Canada
ATTACH;FMTTYPE=application/pdf:https://visitoliver.com/wp-content/uploads/2026/04/April-2026-Oliver-Senior-Centre-Calendar-1.pdf
ORGANIZER;CN="Oliver Senior Centre Society":MAILTO:oscs@eastlink.ca
END:VEVENT
BEGIN:VEVENT
DTSTART;TZID=UTC:20260421T183000
DTEND;TZID=UTC:20260421T210000
DTSTAMP:20260421T022723
CREATED:20260306T213319Z
LAST-MODIFIED:20260306T213320Z
UID:10004237-1776796200-1776805200@visitoliver.com
SUMMARY:Spring Tuesday Night Longtable at Miradoro
DESCRIPTION:Miradoro Spring 2026 Tuesday Night Longtable Communal Dinners \n\nApril 21 – vinAmité Cellars – A special dinner starring the fantastic wines from our friends and neighbours at vinAmité Cellars.  \n\n6.30pm start\, please allow us time to seat you. \n\nReservations Required \n\nMenu $50+tax / Wine pairings (optional) $40+tax
URL:https://visitoliver.com/event/spring-tuesday-night-longtable-at-miradoro-4/
LOCATION:Miradoro Restaurant\, 537 Tinhorn Creek Rd. British Columbia Oliver V0H 1T1 Canada\, Oliver\, British Columbia\, V0H 1T1\, Canada
ATTACH;FMTTYPE=image/jpeg:https://visitoliver.com/wp-content/uploads/2026/03/Miradoro-Longtable-2025-1-scaled.jpg
ORGANIZER;CN="Miradoro Restaurant":MAILTO:info@miradoro.ca
END:VEVENT
END:VCALENDAR