BEGIN:VCALENDAR
VERSION:2.0
PRODID:-//Oliver Tourism - ECPv6.11.2.1//NONSGML v1.0//EN
CALSCALE:GREGORIAN
METHOD:PUBLISH
X-ORIGINAL-URL:https://visitoliver.com
X-WR-CALDESC:Events for Oliver Tourism
REFRESH-INTERVAL;VALUE=DURATION:PT1H
X-Robots-Tag:noindex
X-PUBLISHED-TTL:PT1H
BEGIN:VTIMEZONE
TZID:UTC
BEGIN:STANDARD
TZOFFSETFROM:+0000
TZOFFSETTO:+0000
TZNAME:UTC
DTSTART:20250101T000000
END:STANDARD
END:VTIMEZONE
BEGIN:VEVENT
DTSTART;TZID=UTC:20251205T070000
DTEND;TZID=UTC:20251205T200000
DTSTAMP:20260420T024346
CREATED:20251106T215644Z
LAST-MODIFIED:20251204T184009Z
UID:10002710-1764918000-1764964800@visitoliver.com
SUMMARY:Osoyoos Christmas Lite-Up
DESCRIPTION:Two days of light-up activities in Oosyoos
URL:https://visitoliver.com/event/oosyoos-christmas-lite-up/2025-12-05/
LOCATION:Osoyoos\, British Columbia Osoyoos V0V 1T0 Canada\, Osoyoos\, British Columbia\, V0V 1T0\, Canada
ATTACH;FMTTYPE=image/jpeg:https://visitoliver.com/wp-content/uploads/2025/11/christmas-lite-up-2025-scaled.jpg
END:VEVENT
BEGIN:VEVENT
DTSTART;TZID=UTC:20251205T080000
DTEND;TZID=UTC:20251205T170000
DTSTAMP:20260420T024346
CREATED:20251025T173419Z
LAST-MODIFIED:20251025T173421Z
UID:10002625-1764921600-1764954000@visitoliver.com
SUMMARY:The Perfect Pair | Holiday Cookie Edition
DESCRIPTION:Indulge in the sweetest holiday tradition! Enjoy a curated flight of Nostalgia Wines perfectly paired with festive holiday cookies. This Winter in Wine Country sip\, savor\, and discover your new favorite combination of wine and cheer! \n\n Limited quantities available — treat yourself to The Perfect Pair this Winter in Wine Country.
URL:https://visitoliver.com/event/the-perfect-pair-holiday-cookie-edition-2/2025-12-05/
LOCATION:Nostalgia Wines\, 4900 Black Sage Road British Columbia Oliver V0H 1T1 Canada\, Oliver\, British Columbia\, V0H 1T1\, Canada
CATEGORIES:OTA Signature Stakeholder Event
ATTACH;FMTTYPE=image/webp:https://visitoliver.com/wp-content/uploads/2025/10/thumbnail_The-Perfect-Pair-Holiday-Cookie-Edition-Poster.webp
END:VEVENT
BEGIN:VEVENT
DTSTART;TZID=UTC:20251205T120000
DTEND;TZID=UTC:20251205T170000
DTSTAMP:20260420T024346
CREATED:20251108T173259Z
LAST-MODIFIED:20251116T184632Z
UID:10002757-1764936000-1764954000@visitoliver.com
SUMMARY:Winter Wonderland
DESCRIPTION:Step into a Magical Advent-Calendar celebration at La Stella Winery. \n\n24 days of wine\, art\, and community cheer! \n\nEach day brings something new: a winter display created by a local community group\, a tasting of a specially selected wine from La Stella or Le Vieux Pin\, and a local Artisan pop-up with one-of-a-kind gifts. \n\nTasting fees and a portion of sales help support participating community groups. \n\nDecember 1: Osoyoos Festival SocietyDecember 2: Oliver & Osoyoos Search & RescueDecember 3: Osoyoos Lake Paddling ClubDecember 4: Oosoyoos Desert CentreDecember 5: Oliver & Osoyoos Desert Sun CounsellingDecember 6: Anarchaist Mountain Fire DepartmentDecember 7: Oosyoos Activity CentreDecember 8: Oliver Food BankDecember 9: South Okanagan Skating ClubDecember 10: Osoyoos Museum SocietyDecember 11: Oliver Heritage SocietyDecember 12: Oosyoos Food BankDecember 13: Oosyoos Fire & RescueDecember 14: Osoyoos Activity CentreDecember 15: Oliver Mission SocietyDecember 16: Desert Pickleball ClubDecember 17: Oliver Curling ClubDecember 18: Oosyoos Curling ClubDecember 19: Oosyoos Lawn Bowling ClubDecember 20: Oosyoos Day CareDecember 21: Oliver & District Fire Department December 22: Oosyoos Music in the ParkDecember 24: Oosyoos Lake Sailing ClubDecember 25: Oosyoos Lake Water Quality Society
URL:https://visitoliver.com/event/winter-wonerland/2025-12-05/
LOCATION:La Stella Winery\, 8123 148 AVE\, Osoyoos\, BC\, V0H 1V2\, Canada
CATEGORIES:OTA Signature Stakeholder Event
ATTACH;FMTTYPE=image/jpeg:https://visitoliver.com/wp-content/uploads/2025/11/Screenshot-2025-11-07-124509.jpg
END:VEVENT
BEGIN:VEVENT
DTSTART;TZID=UTC:20251205T120000
DTEND;TZID=UTC:20251205T190000
DTSTAMP:20260420T024346
CREATED:20251029T192515Z
LAST-MODIFIED:20251029T192517Z
UID:10002635-1764936000-1764961200@visitoliver.com
SUMMARY:11th Annual Fondue Party!
DESCRIPTION:Get ready to dip\, sip\, and celebrate at vinAmité’s 11th Annual Fondue Party — a beloved Winter in Wine Country tradition! \n\n\n\nJoin us for a cozy and delicious evening featuring our signature wine-infused cheese fondue\, paired perfectly with complimentary tastings of our latest vintages. Whether you’re returning for another year or joining us for the first time\, this is the ultimate way to savour the season and share in the warmth of great wine\, good food\, and even better company. \n\n When:November 28\, 29\, 30 & December 5\, 6\, 7 (Thursdays–Saturdays)12-7 \n\n How to Reserve:Space fills up quickly every year! Call 250-498-2234 to reserve your table.  Reservations are encouraged.
URL:https://visitoliver.com/event/11th-annual-fondue-party/2025-12-05/
LOCATION:VinAmite Cellars\, 5381 BC-97 British Columbia Oliver V0H 1T1 Canada\, Oliver\, British Columbia\, V0H 1T1\, Canada
ATTACH;FMTTYPE=image/jpeg:https://visitoliver.com/wp-content/uploads/2025/10/561415424_1607410510466466_2447038044099078410_n.jpg
END:VEVENT
BEGIN:VEVENT
DTSTART;TZID=UTC:20251205T120000
DTEND;TZID=UTC:20251205T220000
DTSTAMP:20260420T024346
CREATED:20251204T185903Z
LAST-MODIFIED:20251204T185903Z
UID:10003469-1764936000-1764972000@visitoliver.com
SUMMARY:WIPIZZA
DESCRIPTION:WIPZZA! \n\nBuy a bottle of wine & get a free pizza! \n\nDine in only. \n\nNo further discounts and not in combination with another offer. \n\nRegular menu\, up to 10 guests.
URL:https://visitoliver.com/event/wipizza/2025-12-05/
LOCATION:Miradoro Restaurant\, 537 Tinhorn Creek Rd. British Columbia Oliver V0H 1T1 Canada\, Oliver\, British Columbia\, V0H 1T1\, Canada
ATTACH;FMTTYPE=image/jpeg:https://visitoliver.com/wp-content/uploads/2025/12/WIPZZA-010.jpg
ORGANIZER;CN="Miradoro Restaurant":MAILTO:info@miradoro.ca
END:VEVENT
BEGIN:VEVENT
DTSTART;TZID=UTC:20251205T180000
DTEND;TZID=UTC:20251205T180000
DTSTAMP:20260420T024346
CREATED:20251017T182150Z
LAST-MODIFIED:20251017T182152Z
UID:10002573-1764957600-1764957600@visitoliver.com
SUMMARY:Christmas in OK Falls | Long Table Dinner
DESCRIPTION:The next theme in our dinner series at Liquidity is a holiday-inspired evening\, inviting you to gather around a table dressed for the season\, where warm candlelight\, festive décor\, and the aromas of the season’s finest dishes fill the room. Each course\, thoughtfully crafted by our culinary team\, is paired with Liquidity wines\, creating an evening that feels both effortlessly stylish and joyfully intimate. \n\nCelebrate the holiday season with us in the heart of wine country. \n\n$110 for Wine Club Members | $125 for Public
URL:https://visitoliver.com/event/christmas-in-ok-falls-long-table-dinner/
LOCATION:Liquidity Wines\, 4720 Allendale Rd\, Okanagan Falls\, BC\, V0H 1R2\, Canada
ATTACH;FMTTYPE=image/jpeg:https://visitoliver.com/wp-content/uploads/2025/10/LIQ-Vineyard-Winter-View-Alternating.jpg
END:VEVENT
BEGIN:VEVENT
DTSTART;TZID=UTC:20251205T180000
DTEND;TZID=UTC:20251205T200000
DTSTAMP:20260420T024346
CREATED:20251101T154340Z
LAST-MODIFIED:20251101T154342Z
UID:10002661-1764957600-1764964800@visitoliver.com
SUMMARY:Christmas Ornament Painting Workshop with Two Lakes Pottery
DESCRIPTION:Add a personal touch to your Christmas tree this year! In this 2-hour workshop\, you’ll paint your very own ceramic Christmas ornament\, handcrafted by Two Lakes Pottery\, with your own creative designs. Once complete\, your ornament will be fired and ready for pickup a few days later. Just in time to hang on your tree or gift to someone special. All supplies\, a glass of wine\, and charcuterie bites are included! \n\nTickets: $45+tax  |  Club: $40+tax
URL:https://visitoliver.com/event/christmas-ornament-painting-workshop-with-two-lakes-pottery/
LOCATION:River Stone Estate Winery\, 143 Buchanan Drive British Columbia Oliver V0H 1T2 Canada\, Oliver\, British Columbia\, V0H 1T2\, Canada
ATTACH;FMTTYPE=image/jpeg:https://visitoliver.com/wp-content/uploads/2025/11/Screenshot-2025-11-01-084230.jpg
ORGANIZER;CN="River Stone Estate Winery":MAILTO:info@riverstoneestatewinery.ca
END:VEVENT
BEGIN:VEVENT
DTSTART;TZID=UTC:20251205T183000
DTEND;TZID=UTC:20251205T183000
DTSTAMP:20260420T024346
CREATED:20251106T215855Z
LAST-MODIFIED:20251106T215856Z
UID:10002712-1764959400-1764959400@visitoliver.com
SUMMARY:Santa Parade
DESCRIPTION:
URL:https://visitoliver.com/event/santa-parade/
LOCATION:Osoyoos\, British Columbia Osoyoos V0V 1T0 Canada\, Osoyoos\, British Columbia\, V0V 1T0\, Canada
ATTACH;FMTTYPE=image/jpeg:https://visitoliver.com/wp-content/uploads/2025/11/Screenshot-2025-11-06-135313.jpg
END:VEVENT
END:VCALENDAR